BEGIN:VCALENDAR
VERSION:2.0
PRODID:-//Hill Center DC - ECPv6.15.20//NONSGML v1.0//EN
CALSCALE:GREGORIAN
METHOD:PUBLISH
X-WR-CALNAME:Hill Center DC
X-ORIGINAL-URL:https://www.hillcenterdc.org
X-WR-CALDESC:Events for Hill Center DC
REFRESH-INTERVAL;VALUE=DURATION:PT1H
X-Robots-Tag:noindex
X-PUBLISHED-TTL:PT1H
BEGIN:VTIMEZONE
TZID:America/New_York
BEGIN:DAYLIGHT
TZOFFSETFROM:-0500
TZOFFSETTO:-0400
TZNAME:EDT
DTSTART:20240310T070000
END:DAYLIGHT
BEGIN:STANDARD
TZOFFSETFROM:-0400
TZOFFSETTO:-0500
TZNAME:EST
DTSTART:20241103T060000
END:STANDARD
BEGIN:DAYLIGHT
TZOFFSETFROM:-0500
TZOFFSETTO:-0400
TZNAME:EDT
DTSTART:20250309T070000
END:DAYLIGHT
BEGIN:STANDARD
TZOFFSETFROM:-0400
TZOFFSETTO:-0500
TZNAME:EST
DTSTART:20251102T060000
END:STANDARD
BEGIN:DAYLIGHT
TZOFFSETFROM:-0500
TZOFFSETTO:-0400
TZNAME:EDT
DTSTART:20260308T070000
END:DAYLIGHT
BEGIN:STANDARD
TZOFFSETFROM:-0400
TZOFFSETTO:-0500
TZNAME:EST
DTSTART:20261101T060000
END:STANDARD
END:VTIMEZONE
BEGIN:VEVENT
DTSTART;TZID=America/New_York:20250903T190000
DTEND;TZID=America/New_York:20250903T210000
DTSTAMP:20260419T220627
CREATED:20250725T175158Z
LAST-MODIFIED:20250814T134501Z
UID:10017223-1756926000-1756933200@www.hillcenterdc.org
SUMMARY:Foghorn Stringband: American Stringband Concert
DESCRIPTION:In-person Register HereThe Foghorn Stringband is the present day gold standard for real-deal hard-hitting genuine old-time American string band music\, with nine albums\, thousands of shows\, over 20 years of touring under their belts\, and an entirely new generation of roots musicians following their lead. American roots music is a diverse and never-ending well of inspiration\, and Foghorn Stringband continually and obsessively draws from old-time\, bluegrass\, classic country\, and Cajun music traditions in an ongoing quest to present a broad span of American historical music with an unparalleled youthful energy\, joy\, and virtuosity. \nEach member of Foghorn Stringband exemplifies the best of the roots music traditions from their respective native cultures. Caleb Klauder’s wistful\, keening vocals and rapidfire mandolin picking are as influenced by Southern roots music as much as they are by his upbringing in the sea islands of coastal Washington State. Reeb Willms hails from the wind swept Eastern farmlands of Washington. Her musical family and rural upbringing are on display with every note she sings and every heart she breaks. Nadine Landry’s roots lie in the rural backroads of Acadian Québec\, and her high lonesome vocals have delighted audiences the world over. Her earth-shaking bass playing is the rumbling backbone of the Foghorn sound. Minnesotan Sammy Lind\, simply put\, is the old-time fiddler of his generation whose tone and voice are as old as the same hills that gave birth to this music. Together\, these four have forged a sound like no other. \nThe band’s repertoire has expanded greatly in the past 15 years. They are as comfortable playing music at a neighborhood square dance as they are stirring a festival audience to a frenzy. Old time dance tunes rub shoulders with Cajun waltzes\, vintage honky tonk country\, and classic bluegrass….and it’s all rendered into a cohesive whole. Foghorn Stringband can often be found after a performance in a local pub or club continuing to play with equal energy and joy late into the night. \n 
URL:https://www.hillcenterdc.org/event/foghorn-stringband/
LOCATION:Hill Center DC\, 921 Pennsylvania Avenue\, SE\, Washington\, DC\, 20003\, United States
CATEGORIES:Concerts,In-person Events
ATTACH;FMTTYPE=image/png:https://www.hillcenterdc.org/wp-content/uploads/2025/07/unnamed-2.png
GEO:38.8829927;-76.9931301
X-APPLE-STRUCTURED-LOCATION;VALUE=URI;X-ADDRESS=Hill Center DC 921 Pennsylvania Avenue SE Washington DC 20003 United States;X-APPLE-RADIUS=500;X-TITLE=921 Pennsylvania Avenue\, SE:geo:-76.9931301,38.8829927
END:VEVENT
BEGIN:VEVENT
DTSTART;TZID=America/New_York:20250905T190000
DTEND;TZID=America/New_York:20250905T210000
DTSTAMP:20260419T220627
CREATED:20250308T165639Z
LAST-MODIFIED:20250830T084434Z
UID:10014769-1757098800-1757106000@www.hillcenterdc.org
SUMMARY:Stone Room Concerts @ Hill Center Featuring Award-Winning Indie Folk Singer/Songwriter Kipyn Martin
DESCRIPTION:In-person Register HereCurated and Hosted by Stone Room Concerts Founder David Holiday \nKipyn Martin is an emerging Indie Folk singer-songwriter whose roots sink deep into the banks of the Shenandoah River. She has played festivals\, concert halls\, coffeehouses\, and house concerts from New England to Texas. She has earned multiple Gold Awards in the Mid-Atlantic Song Contest\, and has previously been honored by the Washington Area Music Association with multiple WAMMIE nominations (Songwriter of the Year and Folk Contemporary Vocalist). In 2015 she won the WAMMIE for New Artist of the Year. In addition to songwriting\, Kipyn holds a Master of Music in Composition and teaches private lessons in voice\, guitar\, piano\, and songwriting. \nCurrently one can find Kipyn performing in the DC/Baltimore areas. She is a dedicated tribute artist as well as performing songwriter. 2025 will see her paying tribute to Joni Mitchell as part of Joan & Joni with music partner Allison Shapira\, as well as paying homage to Simon & Garfunkel as part of Newmyer Flyer’s Bleecker Street. \nKipyn lives in Frederick\, MD with her family and cat. \nAbout David Holiday: David Holiday — a lifelong music aficionado who in his youth performed with the Grammy-winning Texas Boys Choir and numerous youth orchestras and ensembles\, founded Stone Room Concerts together with his wife in 2012 to bring  intimate\, high-quality performances by local\, national and international independent musicians to the DMV area.  He has hosted more than 200 shows over the past decade in homes\, churches and other eclectic venues\, including for several years at Bikenetic\,a full service bicycle shop in Falls Church. Stone Room Concerts also serves as the fiscal agent for Niñas Arriba\, a charitable project of Latin Grammy-nominee Gina Chavez and their wife Jodi Granado\, which they set up to support the college education of young women in El Salvador and Central America.  In keeping with his long standing professional involvement with Central America\, Holiday is part of a team supporting the Maya Kaqchikel musician Sara Curruchich.  In 2023\, he had the privilege of serving as tour manager for Curruchich’s first-ever US tour\, including major venues and festivals in New York\, California\, Colorado and Illinois. \nKipyn Photo Courtesy Eric Michael Hilton Photography
URL:https://www.hillcenterdc.org/event/stone-room-concerts-hill-center-featuring-award-winning-indie-folk-singer-songwriter-kipyn-martin/
LOCATION:Hill Center DC\, 921 Pennsylvania Avenue\, SE\, Washington\, DC\, 20003\, United States
CATEGORIES:Concerts,In-person Events
ATTACH;FMTTYPE=image/jpeg:https://www.hillcenterdc.org/wp-content/uploads/2025/03/Kipyn-Martin-copy.jpg
GEO:38.8829927;-76.9931301
X-APPLE-STRUCTURED-LOCATION;VALUE=URI;X-ADDRESS=Hill Center DC 921 Pennsylvania Avenue SE Washington DC 20003 United States;X-APPLE-RADIUS=500;X-TITLE=921 Pennsylvania Avenue\, SE:geo:-76.9931301,38.8829927
END:VEVENT
BEGIN:VEVENT
DTSTART;TZID=America/New_York:20250914T163000
DTEND;TZID=America/New_York:20250914T183000
DTSTAMP:20260419T220627
CREATED:20250624T171532Z
LAST-MODIFIED:20250902T132452Z
UID:10015119-1757867400-1757874600@www.hillcenterdc.org
SUMMARY:American Roots Concert Series: The Pine Leaf Boys
DESCRIPTION:In-person Register Here \nLouisiana’s finest\, four-time Grammy-Nominated\, world-renown Pine Leaf Boys have made a name for presenting their own inimitable brand of Louisiana music with youthful exuberance. Hailing from southwest Louisiana\, the Pine Leaf Boys\, known for their wild shows and thoughtful arrangements\, have breathed new life into Louisiana music\, reviving ancient songs and bringing them to the bandstand. Being described in the New York Times as\, “… the link that connects the young and the old generations\,” and\, “the best new\, energetic\, and fun Cajun band in a very long time\,” the Pine Leaf Boys play the old fashion dance hall standards while making a priority to bring many of the more obscure songs of past masters into their repertoire and play them with gusto.  \nThe Pine Leaf Boys have been invited on six occasions by the U.S. State Department to tour the world and present true music to Saudi Arabia\, UAE\, and Jerusalem in 2009 and again to Latvia\, Denmark\, and Slovenia is 2010 and a third time to the “Stan” countries in 2012 (Uzbek\, Tajik\, and Kyrgz). The variety and energy they release evolves through their shows\, bringing multi-faceted angles to Cajun\, Creole\, and Zydeco. Their mission is to present the beautiful\, powerful music of their ancestors and present the real Cajun music to the world and prove that it is still thriving and full of life. The Pine Leaf Boys have preserved the traditional Cajun sound\, while allowing it to breathe and stretch with those who play it.  Click here to see a list of the last 11 years of touring around the 23 countries and 47 states. \n \nThanks to all our sponsors: \n\n\n             
URL:https://www.hillcenterdc.org/event/american-roots-concert-series-the-pine-leaf-boys/
LOCATION:Hill Center DC\, 921 Pennsylvania Avenue\, SE\, Washington\, DC\, 20003\, United States
CATEGORIES:Concerts,In-person Events
ATTACH;FMTTYPE=image/jpeg:https://www.hillcenterdc.org/wp-content/uploads/2025/06/Pineleafboys-2.jpg
ORGANIZER;CN="%E2%80%8C%E2%80%8CAmerican Roots Concert Series Presented by Quicksilver Productions Foundation":MAILTO:martha@quicksilverproductions.net
GEO:38.8829927;-76.9931301
X-APPLE-STRUCTURED-LOCATION;VALUE=URI;X-ADDRESS=Hill Center DC 921 Pennsylvania Avenue SE Washington DC 20003 United States;X-APPLE-RADIUS=500;X-TITLE=921 Pennsylvania Avenue\, SE:geo:-76.9931301,38.8829927
END:VEVENT
BEGIN:VEVENT
DTSTART;TZID=America/New_York:20250928T140000
DTEND;TZID=America/New_York:20250928T180000
DTSTAMP:20260419T220627
CREATED:20241001T202421Z
LAST-MODIFIED:20250929T133553Z
UID:10012473-1759068000-1759082400@www.hillcenterdc.org
SUMMARY:Family Day 2025!
DESCRIPTION:In-person Register HereHill Center’s annual Family Day returns again for 2025!\nCome enjoy a completely FREE day of magic\, music\, face painting\,\nballoon animals\, and more!\n\n\nONGOING ACTIVITIES \n\n\n2:00-6:00pm: \n\n\nPhoto Booth\nFace Painting\nBalloons by Brenda\nConcessions & Popcorn\n\n\nActivities & demos from our program partners: \n\n\nChess Wizards\nWarrior Fusion\nDC Way\nTippi Toes\nSuper Soccer Stars\n\n\nMAIN STAGE \n\n\n2:30-3:15pm – Turley the Magician \n\n\n4:30-5:45pm – King Bullfrog \n\n\nReserve your tickets now!
URL:https://www.hillcenterdc.org/event/family-day-2025/
LOCATION:Hill Center DC\, 921 Pennsylvania Avenue\, SE\, Washington\, DC\, 20003\, United States
CATEGORIES:Children & Teens,Concerts,In-person Events
ATTACH;FMTTYPE=image/png:https://www.hillcenterdc.org/wp-content/uploads/2024/10/Family-Day-Updated.png
ORGANIZER;CN="King Bullfrog":MAILTO:kingbullfrogmusic@gmail.com
GEO:38.8829927;-76.9931301
X-APPLE-STRUCTURED-LOCATION;VALUE=URI;X-ADDRESS=Hill Center DC 921 Pennsylvania Avenue SE Washington DC 20003 United States;X-APPLE-RADIUS=500;X-TITLE=921 Pennsylvania Avenue\, SE:geo:-76.9931301,38.8829927
END:VEVENT
END:VCALENDAR