BEGIN:VCALENDAR
VERSION:2.0
PRODID:-//Hill Center DC - ECPv6.15.20//NONSGML v1.0//EN
CALSCALE:GREGORIAN
METHOD:PUBLISH
X-ORIGINAL-URL:https://www.hillcenterdc.org
X-WR-CALDESC:Events for Hill Center DC
REFRESH-INTERVAL;VALUE=DURATION:PT1H
X-Robots-Tag:noindex
X-PUBLISHED-TTL:PT1H
BEGIN:VTIMEZONE
TZID:America/New_York
BEGIN:DAYLIGHT
TZOFFSETFROM:-0500
TZOFFSETTO:-0400
TZNAME:EDT
DTSTART:20240310T070000
END:DAYLIGHT
BEGIN:STANDARD
TZOFFSETFROM:-0400
TZOFFSETTO:-0500
TZNAME:EST
DTSTART:20241103T060000
END:STANDARD
BEGIN:DAYLIGHT
TZOFFSETFROM:-0500
TZOFFSETTO:-0400
TZNAME:EDT
DTSTART:20250309T070000
END:DAYLIGHT
BEGIN:STANDARD
TZOFFSETFROM:-0400
TZOFFSETTO:-0500
TZNAME:EST
DTSTART:20251102T060000
END:STANDARD
BEGIN:DAYLIGHT
TZOFFSETFROM:-0500
TZOFFSETTO:-0400
TZNAME:EDT
DTSTART:20260308T070000
END:DAYLIGHT
BEGIN:STANDARD
TZOFFSETFROM:-0400
TZOFFSETTO:-0500
TZNAME:EST
DTSTART:20261101T060000
END:STANDARD
END:VTIMEZONE
BEGIN:VEVENT
DTSTART;TZID=America/New_York:20251005T163000
DTEND;TZID=America/New_York:20251005T183000
DTSTAMP:20260418T222452
CREATED:20250624T160528Z
LAST-MODIFIED:20251005T150751Z
UID:10015118-1759681800-1759689000@www.hillcenterdc.org
SUMMARY:American Roots Concert Series: Brennen Leigh
DESCRIPTION:In-person Register Here \nBrennen Leigh was perhaps fated to “walk the line” from birth. Born in Fargo\, North Dakota\, she was raised just across the state border in Moorhead\, Minnesota\, in an environment where country music was all-encompassing. “My parents listened to country music\, to the point where I didn’t realize there was other music\,” she recalls.  \n  \nProduced by musician Chris Scruggs (bassist with Marty Stuart and His Fabulous Superlatives)\, who’s the grandson of bluegrass royalty Earl Scruggs\, and son of pioneering country hitmaker and record producer Gail Davies\, Ain’t Through Honky Tonkin’ Yet follows 2022’s Obsessed With the West\, Leigh’s acclaimed collaboration with Western Swing icons Asleep at the Wheel\, which landed in the Top 10 on the Americana music chart upon its release. “Brennen will carry the torch for real roots American music for her generation\, and she’s the best one to do it in my opinion\,” says Wheel frontman Ray Benson. In addition to her extensive\, genre-defying discography which encompassesnearly a dozen solo and collaborative projects\, Leigh has penned songs for an array of artists including Lee Ann Womack\, Rodney Crowell\, Charley Crockett and many more. She has been hailed by the Grammy-winning Crowell as “a story-telling poet\, landscape painter\, passionate observer of the human condition and a cultural preservationist.” A live-show veteran\, Leigh was just 20 years old when she toured with bluegrass and country-music legend Ralph Stanley\, and hit the road with songwriter Guy Clark\, who proclaimed\, as only he could\, “Brennen Leigh plays guitar like a motherfucker.” Her dynamic and endlessly entertaining live shows certainly live up to that high praise\, showcasing not only her instrumental prowess\, but a gift for vivid storytelling filtered through her refreshingly dry wit. \n  \nNew album coming this October!  \n  \n \nThanks to all our sponsors: \n  \n\n\n             
URL:https://www.hillcenterdc.org/event/american-roots-concert-series-brennen-leigh/
LOCATION:Hill Center DC\, 921 Pennsylvania Avenue\, SE\, Washington\, DC\, 20003\, United States
CATEGORIES:Concerts,In-person Events
ATTACH;FMTTYPE=image/jpeg:https://www.hillcenterdc.org/wp-content/uploads/2025/06/DSC05448.jpg
ORGANIZER;CN="%E2%80%8C%E2%80%8CAmerican Roots Concert Series Presented by Quicksilver Productions Foundation":MAILTO:martha@quicksilverproductions.net
GEO:38.8829927;-76.9931301
X-APPLE-STRUCTURED-LOCATION;VALUE=URI;X-ADDRESS=Hill Center DC 921 Pennsylvania Avenue SE Washington DC 20003 United States;X-APPLE-RADIUS=500;X-TITLE=921 Pennsylvania Avenue\, SE:geo:-76.9931301,38.8829927
END:VEVENT
BEGIN:VEVENT
DTSTART;TZID=America/New_York:20251007T190000
DTEND;TZID=America/New_York:20251007T210000
DTSTAMP:20260418T222452
CREATED:20250418T144821Z
LAST-MODIFIED:20250813T134025Z
UID:10014831-1759863600-1759870800@www.hillcenterdc.org
SUMMARY:Global Sounds on the Hill featuring Estonian Talharpa Duo Puuluup
DESCRIPTION:In-person Register HereTalharpa is a two to four stringed bowed lyre from northern Europe. Historically\, it has been played in the Estonian-Swedish areas and in Western Estonia\, particularly among Estonian Swedes who came to Estonia around the 10th century from the Swedish part of Finland. \nCurated and hosted by iconic DC impresario and musician Jim Thomson \n\nGlobal Sounds on the Hill is thrilled to present an intimate concert with the neo-zombie Estonian arboreal post-folk duo\, Puuluup.\n\nThe word “Puuluup” comes from the Estonian word for tree or wood: ‘puu’\, and ‘luup’ is a fortuitous re-spelling of the English word ‘loop’. The beautifully weird Estonian duo of Ramo Teder and Marko Veisson do a lot of looping. They’re exponents of a Neo-folk talharpa revival with a touch of surrealism and happy absurdity. Talharpa — that four-stringed Baltic bowed lyre that looks so similar to the Ethiopian krar — has a traditional susurrus sound that\, combined with effects and loops\, creates a fascinating backdrop for their songs.  The lyrics and melodies are a mixture of musical memories and improvisation\, and the inspiration is drawn from Finnish jouhikko repertoire\, Sahel blues\, chastushkas and other elements from musical traditions around the world. All kinds of random sources of inspiration are similarly important – unexpected excerpts from Polish TV series\, old Estonian punk\, and sweetbread from Vormsi Island.  Together with the band 5MIINUST\, they represented Estonia in the Eurovision Song Contest in Sweden in 2024 and made it to the grand final. Shortly before that they also released the joint album “Kannatused ehk külakiigel pole stopperit” ( “Suffering\, or the village swing\, has no breaks.”\n\n\nDuo Puuluup started in 2014 and its members are Ramo Teder\, a looping pioneer in Estonia (also known for his solo project  Pastacas) and Marko Veisson\, who has a background in anthropology. Their first album “Süüta mu lumi” ( Ignite My Snow) was released in 2018 and the second album “Viimane suusataja” ( Last Crosscountry Skier) in 2021.\nCrossing Talharpa with electronics\, Puuluup oscillates on the border of tradition and modern music styles\, flirting with world music\, underground and pop. Puuluup controls the vibrations of Talharpa strings through effect blocks and the looper and uses alternative playing techniques and sound generation options. Electronically amplified echoes\, knocks\, squeaks and scrapes are added to the soft hiss of Talharpa. The music is at times dance-pulsating and at times cinematic and dark\, creeping in and carried over from the chambers of the ancient Vormsi talharpists. It sounds like original creations impregnated with tradition\, references to punk classics and romantic neo-zombie post-folk with educational content. \nThe men themselves say modestly about their work: “Our main message in the context of folk music is that\, look\, you can do all kinds of things with the hiiu kandel\, learn the instrument and make your own music.” \nAbout Jim Thomson: Jim Thomson is an independent DIY music producer based in Washington DC who specializes in booking\, live music production\, artist management\, DJ events\, and record releases. In Washington DC he operates an ongoing live music series called Secret Planet DC that partners with various venues\, foundations\, and musicians all across the city to produce unique\, intimate\, and meaningful performances. He also owns and operates the Washington\, DC-based boutique record label Electric Cowbell Records as well as holding down and curating all vinyl DJ residencies at The Green Zone\, Cana\, La Shukran\, Daikaya\, Le Mont Royal\, Eaton Hotel\, the DC Record Fair\, and other bars and restaurants in the city. \nJim is also a lifelong musician and promoter\, playing drums as a founding member of GWAR\, The Alter-Natives (SST Records)\, Bio Ritmo\, CSC Funk Band\, Time Is Fire\, and he currently plays drums and percussion with Motherf*ckers JMB & Co with Geologist from Animal Collective. One of the first concerts he co-promoted was a Bad Brains show in Richmond\, Virginia in 1987 followed by years of concerts including surf guitar legend Dick Dale\, Knitting Factory tours\, Marc Ribot\, Charles Gayle\, Negativland\, Medeski\, Martin\, and Wood\, and many others.
URL:https://www.hillcenterdc.org/event/global-sounds-on-the-hill-featuring-estonian-hiiu-kandle-duo-puuluup/
LOCATION:Hill Center DC\, 921 Pennsylvania Avenue\, SE\, Washington\, DC\, 20003\, United States
CATEGORIES:Concerts,In-person Events
ATTACH;FMTTYPE=image/jpeg:https://www.hillcenterdc.org/wp-content/uploads/2025/04/puuluup-34-1-1433x720-1.jpg
GEO:38.8829927;-76.9931301
X-APPLE-STRUCTURED-LOCATION;VALUE=URI;X-ADDRESS=Hill Center DC 921 Pennsylvania Avenue SE Washington DC 20003 United States;X-APPLE-RADIUS=500;X-TITLE=921 Pennsylvania Avenue\, SE:geo:-76.9931301,38.8829927
END:VEVENT
BEGIN:VEVENT
DTSTART;TZID=America/New_York:20251018T190000
DTEND;TZID=America/New_York:20251018T210000
DTSTAMP:20260418T222452
CREATED:20250717T134132Z
LAST-MODIFIED:20250912T141046Z
UID:10017092-1760814000-1760821200@www.hillcenterdc.org
SUMMARY:DC Cafe Aman in Concert Featuring Spyros Koliavasilis: Ambassadors of Sound
DESCRIPTION:In-person Register HereFeaturing Spyros Koliavasilis\, Hakan Keles\, Nicholas Mitrone and Firat Alpergin \nDC Café Aman invites you on a journey where time dissolves and borders become meaningless. DC Café Aman transmits the rich cross-cultural soundscape of Greece\, Turkey\, and the Mediterranean region\, celebrating deeply intertwined musical heritages. The band draws its name from the legendary Café Amans—cafes that thrived in the region during the late 19th and early 20th centuries\, where multiethnic musicians expressed their joys and sorrows in Greek\, Turkish\, and many other languages. In these spaces\, an extraordinary intermingling occurred\, with musical traditions flowing together like far-flung tributaries feeding the same river. These intense musical conversations were later carried across the Aegean to create a musical genre known as rebetiko\, essentially the blues of the Mediterranean\, which still moves audiences today. The group’s repertoire runs the gamut from the raw rebetiko sounds of Greece’s Markos Vamvakaris to the melancholic folk poetry of Turkey’s beloved Asik Veysel to more modern compositions. It’s proof positive that music is a living thing—alive\, persistent\, and universal in its ability to travel\, adapt\, and survive. But if you’re looking for museum-piece preservation\, you won’t find it here. This is living\, breathing music that demands a response. Some songs are mournful enough to break your heart. Others are irresistibly catchy and joyous enough to pull you from your seat. But all of them remind us that culture is—and always has been—a conversation\, not a recitation or monologue. \nDC Café Aman was inspired and founded by the internationally acclaimed multi-instrumentalist Dr. Spyros Koliavasilis. The 2025 Maryland Heritage Award recipient is a velvety-voiced master of the oud\, cultural preservationist\, and storyteller. With his oud in his hands\, he weaves musical narratives\, each string vibrating with the sound of fin de siècle bazaars and underground tavernas\, but carried along with a brisk modernity. Abetted by his kemane (an Anatolian lyre called the Cappadocian Lyra) and the rhythmic pulse of his Greek Epirote defi (a small hand drum akin to a tambourine)\, Koliavasilis is a fountain of sound. Yet he’s no one-man band. Hakan Keleş’s passionate vocals and guitars add layers of complexity. Nicholas Mitrione’s timeless-sounding Greek bouzouki and baglama sparkle with spontaneity. And Firat Alpergin’s bass anchors it all with a contemporary pulse that keeps one foot firmly planted in tradition. Each instrument is beautiful to hear on its own. But the real magic is in how they speak to one another\, across space and time. The ancient resonance of the oud converses with the bright\, percussive snap of the bouzouki\, while the kemane’s soaring melodies interweave with modish guitar techniques. When the defi joins the electric bass to anchor the rhythm\, you hear centuries of musical evolution compressed into a single\, transcendent moment. It’s this unique instrumental blend—part coffeehouse intimacy\, part concert hall sophistication—and it makes DC Café Aman’s sound so distinctive. \nDC Café Aman shows us that cultures have always been fluid\, that music has always transcended boundaries\, that sharing joy and loss through song is a universal human need\, and that some of the most beautiful sounds ever created have emerged from the spaces where worlds meet and find common ground. DC Café Aman isn’t just reviving the past. They’re reminding us that we were never meant to be strangers. When you attend their performance\, be ready to dance. Prepare to laugh and cry. And let DC Café Aman help you remember what music was always meant to do. Music unites. \n 
URL:https://www.hillcenterdc.org/event/dc-cafe-aman-in-concert-ambassadors-of-sound-featuring-spyros-koliavasilis/
LOCATION:Hill Center DC\, 921 Pennsylvania Avenue\, SE\, Washington\, DC\, 20003\, United States
CATEGORIES:Concerts,In-person Events
ATTACH;FMTTYPE=image/jpeg:https://www.hillcenterdc.org/wp-content/uploads/2025/07/Spyros.jpg
GEO:38.8829927;-76.9931301
X-APPLE-STRUCTURED-LOCATION;VALUE=URI;X-ADDRESS=Hill Center DC 921 Pennsylvania Avenue SE Washington DC 20003 United States;X-APPLE-RADIUS=500;X-TITLE=921 Pennsylvania Avenue\, SE:geo:-76.9931301,38.8829927
END:VEVENT
BEGIN:VEVENT
DTSTART;TZID=America/New_York:20251019T163000
DTEND;TZID=America/New_York:20251019T183000
DTSTAMP:20260418T222452
CREATED:20250624T173710Z
LAST-MODIFIED:20251017T132420Z
UID:10015120-1760891400-1760898600@www.hillcenterdc.org
SUMMARY:American Roots Concert Series: New Dangerfield
DESCRIPTION:In-person Register Here \nA century of forgetfulness and erasure has led to diminished public awareness of the Black string band tradition – and similarly diminished numbers of Black string bands. As of 2023\, a new Black string band has risen to carry the torch: New Dangerfield. \nNew Dangerfield was originally conceptualized by award-winning banjoist Tray Wellington\, who enlisted three other acclaimed Black roots musicians: multi-instrumentalist and vocalist Kaïa Kater\, bassist Nelson Williams (Chris Jones & the Night Drivers)\, and fiddler and singer Jake Blount. \nThe members of New Dangerfield cut their teeth at fiddler’s conventions and folk festivals\, and in the jazz bars of New Orleans. Community and tradition are the roots of their creative practice – but the branches have spread wide\, and are yet unfolding. Embodying the innovative aspects of the Black string band tradition\, Wellington\, Kater\, Williams and Blount are well-acquainted with the contemporary\, the experimental\, and the speculative. Deploying groove\, technical skill and historical knowledge in the revolutionary spirit of their namesake\, Dangerfield Newby\, New Dangerfield is on a mission to liberate the Black string band tradition. \n \nThanks to all our sponsors: \n  \n\n\n             
URL:https://www.hillcenterdc.org/event/american-roots-concert-series-new-dangerfield/
LOCATION:Hill Center DC\, 921 Pennsylvania Avenue\, SE\, Washington\, DC\, 20003\, United States
CATEGORIES:Concerts,In-person Events
ATTACH;FMTTYPE=image/jpeg:https://www.hillcenterdc.org/wp-content/uploads/2025/06/2024-New-DAngerfield-via-Hearth-PR-devon@hearthmusic.com-26_04_2024.jpg
ORGANIZER;CN="%E2%80%8C%E2%80%8CAmerican Roots Concert Series Presented by Quicksilver Productions Foundation":MAILTO:martha@quicksilverproductions.net
GEO:38.8829927;-76.9931301
X-APPLE-STRUCTURED-LOCATION;VALUE=URI;X-ADDRESS=Hill Center DC 921 Pennsylvania Avenue SE Washington DC 20003 United States;X-APPLE-RADIUS=500;X-TITLE=921 Pennsylvania Avenue\, SE:geo:-76.9931301,38.8829927
END:VEVENT
BEGIN:VEVENT
DTSTART;TZID=America/New_York:20251024T190000
DTEND;TZID=America/New_York:20251024T210000
DTSTAMP:20260418T222452
CREATED:20250903T141338Z
LAST-MODIFIED:20250905T094117Z
UID:10017534-1761332400-1761339600@www.hillcenterdc.org
SUMMARY:Readin' & Rockin' Featuring GRAMMY-Nominated Musician Paul Burch in Conversation with former NPR host Melissa Block.
DESCRIPTION:In-person Register HereBurch Discusses his new Novel Meridian Rising about Country Music Legend Jimmie Rodgers and Sings a Few Songs Too! \n“Jimmie Rodgers comes a-yodelin’ out of Paul Burch’s novel as if he were with us today. This is a tour de force of musical imagination.”\n—Roy Blount Jr.\, author of Save Room for Pie \n“Paul Burch has made up the truth of Jimmie Rodgers’s life better than any mere ‘facts’ could ever convey—even though you’d have to be in possession of a million biographical facts to pull off this kind of vernacular Huck Finn sleight-of-hand prose magic. I suspect the sleight-of-hand has something to do with the fact that Burch is a musician himself. He played his tune in the key of rollicky\, mixed in with all the sadness. From start to end\, I didn’t hear a false note on the page. From start to end\, this felt like such an authentic American story\, in sore need of a new telling.”\n—Paul Hendrickson\, author of Hemingway’s Boat \nKnown for “Blue Yodel (T for Texas)\,” “Waiting for a Train\,” and “In the Jailhouse Now\,” Jimmie Rodgers’s impact on American music is incalculable. Paul Burch’s bio-fictional tale of the short and poignant life of the “Father of Country Music” includes an imagined first-person memoir\, accompanied by spirited\, hilarious\, and often conflicting recollections of Jimmie’s family and music colleagues\, along with period black-and-white illustrations. \nBorn in 1897 in Meridian\, Mississippi\, Rodgers remains the only artist voted into the Rock & Roll\, Country\, Blues\, and Songwriters Halls of Fame. Generations of fans from B. B. King and Johnny Cash to George Harrison and Dolly Parton recall a Rodgers record as the first music played in their home. But his fame extended far beyond America to Africa\, Ireland\, England\, Australia\, and Russia. His disciples include Robert Johnson\, Bob Dylan\, John Prine\, the Clash’s Joe Strummer\, Jack White\, and anyone over the last century who has picked up a guitar to sing about life and the world around it. \nMeridian Rising is at once an immersive tale and a brilliant literary puzzle\, deftly blending history and fiction to create a vibrant alternative life-tale of the entertainer Howling Wolf called “my man that I really dug.” Written with the knowledge and sensitivity of a touring musician who has traveled many of the same roads and stages\, Meridian Rising engages the reader in a quest for truth while confronting the deceptions that live within our deepest relationships. \nPaul Burch\, a native of Washington\, D.C.\, is a writer\, composer\, and recording artist. As a musician\, Burch put out an album in 2016 about Rodgers that received widespread acclaim. Afterwards\, he moved on to other projects\, but Jimmie’s story had its hooks in him\, revealing itself not as another album but in Jimmie’s voice in prose. The result is a rollicking story of the kind of figure that has become a cultural archetype as well as a hero to some of the best artists of our time: Bob Dylan\, Howling Wolf\, Dolly Parton\, Jack White—the list goes on.  Burch has produced numerous albums with his band the WPA Ballclub\, including Last of My Kind\, a companion to Tony Earley’s best-selling novel Jim the Boy\, as well as a musical version of Meridian Rising. In addition\, Burch has produced recordings with Mark Knopfler\, Ralph Stanley\, Lambchop\, and Charlie Louvin\, which received a GRAMMY nomination. Learn more at paulburch.com. \nMelissa Block is an American radio host and journalist. She co-hosted NPR‘s All Things Considered news program from 2003 until August 14\, 2015. In August 2015 she became a Special Correspondent for NPR\, responsible for detailed profiles of newsworthy figures\, and long-form stories and series on topical issues.  She retired from NPR in 2023. Block began her NPR career in 1985 as an editorial assistant for All Things Considered and rose to become the show’s senior producer. From 1994 to 2002\, she was a New York reporter and correspondent for NPR. Her reporting after the September 11 attacks helped earn NPR a Peabody Award in 2001. \nIn 2008\, Block was recording an interview in Chengdu\, China\, when the area was struck by a 7.9 magnitude earthquake. Her earthquake coverage earned her a Peabody Award\, a duPont-Columbia Award\, a National Headliner Award\, and the Society of Professional Journalists‘ Sigma Delta Chi Award. Her  reporting from Kosovo in 1999 for NPR won an Overseas Press Club Award. \n 
URL:https://www.hillcenterdc.org/event/grammy-nominated-musician-composer-record-producer-paul-burch-discusses-his-new-novel-meridian-rising-about-country-legend-jimmie-rodgers-in-conversation-with-former-npr-host-melissa-block-expec/
LOCATION:Hill Center DC\, 921 Pennsylvania Avenue\, SE\, Washington\, DC\, 20003\, United States
CATEGORIES:Concerts,In-person Events,Lectures & Conversations
ATTACH;FMTTYPE=image/jpeg:https://www.hillcenterdc.org/wp-content/uploads/2025/09/Paul-Burch.jpg
GEO:38.8829927;-76.9931301
X-APPLE-STRUCTURED-LOCATION;VALUE=URI;X-ADDRESS=Hill Center DC 921 Pennsylvania Avenue SE Washington DC 20003 United States;X-APPLE-RADIUS=500;X-TITLE=921 Pennsylvania Avenue\, SE:geo:-76.9931301,38.8829927
END:VEVENT
BEGIN:VEVENT
DTSTART;TZID=America/New_York:20251026T170000
DTEND;TZID=America/New_York:20251026T190000
DTSTAMP:20260418T222452
CREATED:20241225T000847Z
LAST-MODIFIED:20250925T151624Z
UID:10013701-1761498000-1761505200@www.hillcenterdc.org
SUMMARY:Stone Room Concerts @ Hill Center Featuring Alt/Indie Singer/ Songwriter Megan Burtt
DESCRIPTION:In-person Register Here“Delightfully expressive\, expansive\, and pleasing\, with Witness\,\nMegan Burtt crafts a rich tapestry of colors and evocative textures.”\n– Guitar Girl Magazine \nCurated and Hosted by Stone Room Concerts Founder David Holiday \n \nMegan Burtt (https://www.meganburtt.com/) is an international touring singer/songwriter who has garnered national recognition. She has recently released Witness\, her first solo album in several years. The Colorado-based performer\, a past Kerrville NewFolk Competition winner who also performed with the all-redhead roots band Gingerbomb\, had been working on the project for years\, but hit delays with illness and false starts. She really began to unlock new levels in her songwriting when she decided to stop dancing around what she really wanted to say. “I discovered that’s a side of myself I like as a songwriter.\,” she says. “It’s become a sensibility that I know how to rest in.” \nThe results were a long time coming\, but they’re worth the wait. With unfailing honesty and vulnerability\, Burtt—who self-produced the project—wrestles with weighty topics like the burden of her own aspirations (“Drugstore Brand”)\, generational trauma (“Little Girls”)\, and the end of an important relationship (“Unfinished Business\,” “Good for You”). She also does it while mixing in doses of groove and pop smarts that make the lyrics hit even harder. Ultimately\, even though she addresses thorny topics\, there’s a sense of hope on Witness. “These songs are more real because hidden in them is the belief that there’s a silver lining\,” Burtt says. “I’m not ignorant to the shitstorm you have to endure to get there. I am a little jaded\, but I am really hopeful too. I enjoy the pursuit of it all.” \nAbout David Holiday: David Holiday — a lifelong music aficionado who in his youth performed with the Grammy-winning Texas Boys Choir and numerous youth orchestras and ensembles\, founded Stone Room Concerts together with his wife in 2012 to bring  intimate\, high-quality performances by local\, national and international independent musicians to the DMV area.  He has hosted more than 200 shows over the past decade in homes\, churches and other eclectic venues\, including for several years at Bikenetic\,a full service bicycle shop in Falls Church. Stone Room Concerts also serves as the fiscal agent for Niñas Arriba\, a charitable project of Latin Grammy-nominee Gina Chavez and their wife Jodi Granado\, which they set up to support the college education of young women in El Salvador and Central America.  In keeping with his long standing professional involvement with Central America\, Holiday is part of a team supporting the Maya Kaqchikel musician Sara Curruchich.  In 2023\, he had the privilege of serving as tour manager for Curruchich’s first-ever US tour\, including major venues and festivals in New York\, California\, Colorado and Illinois.
URL:https://www.hillcenterdc.org/event/stone-room-concerts-hill-center-featuring-alt-indie-singer-songwriter-megan-burtt/
LOCATION:Hill Center DC\, 921 Pennsylvania Avenue\, SE\, Washington\, DC\, 20003\, United States
CATEGORIES:Concerts,In-person Events
ATTACH;FMTTYPE=image/jpeg:https://www.hillcenterdc.org/wp-content/uploads/2024/12/Megan-Burtt-Edited.jpg
GEO:38.8829927;-76.9931301
X-APPLE-STRUCTURED-LOCATION;VALUE=URI;X-ADDRESS=Hill Center DC 921 Pennsylvania Avenue SE Washington DC 20003 United States;X-APPLE-RADIUS=500;X-TITLE=921 Pennsylvania Avenue\, SE:geo:-76.9931301,38.8829927
END:VEVENT
END:VCALENDAR