BEGIN:VCALENDAR
VERSION:2.0
PRODID:-//Hill Center DC - ECPv6.15.20//NONSGML v1.0//EN
CALSCALE:GREGORIAN
METHOD:PUBLISH
X-WR-CALNAME:Hill Center DC
X-ORIGINAL-URL:https://www.hillcenterdc.org
X-WR-CALDESC:Events for Hill Center DC
REFRESH-INTERVAL;VALUE=DURATION:PT1H
X-Robots-Tag:noindex
X-PUBLISHED-TTL:PT1H
BEGIN:VTIMEZONE
TZID:America/New_York
BEGIN:DAYLIGHT
TZOFFSETFROM:-0500
TZOFFSETTO:-0400
TZNAME:EDT
DTSTART:20250309T070000
END:DAYLIGHT
BEGIN:STANDARD
TZOFFSETFROM:-0400
TZOFFSETTO:-0500
TZNAME:EST
DTSTART:20251102T060000
END:STANDARD
BEGIN:DAYLIGHT
TZOFFSETFROM:-0500
TZOFFSETTO:-0400
TZNAME:EDT
DTSTART:20260308T070000
END:DAYLIGHT
BEGIN:STANDARD
TZOFFSETFROM:-0400
TZOFFSETTO:-0500
TZNAME:EST
DTSTART:20261101T060000
END:STANDARD
BEGIN:DAYLIGHT
TZOFFSETFROM:-0500
TZOFFSETTO:-0400
TZNAME:EDT
DTSTART:20270314T070000
END:DAYLIGHT
BEGIN:STANDARD
TZOFFSETFROM:-0400
TZOFFSETTO:-0500
TZNAME:EST
DTSTART:20271107T060000
END:STANDARD
END:VTIMEZONE
BEGIN:VEVENT
DTSTART;TZID=America/New_York:20260503T163000
DTEND;TZID=America/New_York:20260503T183000
DTSTAMP:20260419T121921
CREATED:20260408T211305Z
LAST-MODIFIED:20260416T192523Z
UID:10019835-1777825800-1777833000@www.hillcenterdc.org
SUMMARY:American Roots Concert Series: Justin Golden & The Devil's Coattails
DESCRIPTION:In-person Register Here \nWe are delighted and grateful to welcome Justin Golden & The Devil’s Coattails to Hill Center for a rare performance. \nWith roots in the Mississippi Delta\, Chicago\, and the Piedmont of Virginia\, Richmond-based guitarist and songwriter Justin Golden’s origins are deeply vested in the blues. First picking up the guitar at age 19\, Golden did what came naturally and let the music flow through him. With an extremely diverse musical palette\, Golden aims to bring some new ideas to traditional blues forms. \nAt the age of 34\, a shocking Stage IV Cancer diagnosis in January of 2025 left Golden in a place of uncertainty\, fear and doubt. After more than a decade of intense touring\, recording\, and honing his craft\, Golden was forced to take an extended respite from musician life. He instead dedicated his time to manage chemotherapy treatments\, appointments\, and navigating the health insurance establishment. For most of 2025\, Golden had barely enough energy to play one local show each month. Although he still plays extremely limited tours as symptoms allow\, Golden’s treatment will be ongoing for the foreseeable future. Golden states that he “truly couldn’t have made it through 2025 without the support of [his] community.” \n \nThanks to all our sponsors: \n  \n\n\n   
URL:https://www.hillcenterdc.org/event/american-roots-concert-series-justin-golden-the-devils-coattails/
LOCATION:Hill Center DC\, 921 Pennsylvania Avenue\, SE\, Washington\, DC\, 20003\, United States
CATEGORIES:Concerts,In-person Events
ATTACH;FMTTYPE=image/png:https://www.hillcenterdc.org/wp-content/uploads/2026/04/Justin-Golden-Band.png
ORGANIZER;CN="%E2%80%8C%E2%80%8CAmerican Roots Concert Series Presented by Quicksilver Productions Foundation":MAILTO:martha@quicksilverproductions.net
GEO:38.8829927;-76.9931301
X-APPLE-STRUCTURED-LOCATION;VALUE=URI;X-ADDRESS=Hill Center DC 921 Pennsylvania Avenue SE Washington DC 20003 United States;X-APPLE-RADIUS=500;X-TITLE=921 Pennsylvania Avenue\, SE:geo:-76.9931301,38.8829927
END:VEVENT
BEGIN:VEVENT
DTSTART;TZID=America/New_York:20260508T170000
DTEND;TZID=America/New_York:20260508T190000
DTSTAMP:20260419T121921
CREATED:20260401T172432Z
LAST-MODIFIED:20260401T172551Z
UID:10019689-1778259600-1778266800@www.hillcenterdc.org
SUMMARY:Ms. Niki In Concert
DESCRIPTION:In-person Register HereNicole “Ms. Niki” Addison is a classically trained singer/songwriter from Washington\, D.C. One of family music’s most compelling and talented new emerging artists\, Ms. Niki is a member of the GRAMMY-nominated 1 Tribe Collective’s All One Tribe album featuring “Rainbow.” Described as a new age cross between Mary Poppins and Ms. Frizzle. Ms. Niki is sure to please audiences of all ages. Join music edutainer\, Ms. Niki on a colorful adventure through upbeat original songs and classics with a twist you’ve never heard before. Perfect for assemblies and concerts at festivals\, theaters and schools. Ms. Niki also offers workshops in musical theater and music classes. \nhttps://www.msniki.com/ \n \n  \n 
URL:https://www.hillcenterdc.org/event/ms-niki-in-concert/
LOCATION:Hill Center DC\, 921 Pennsylvania Avenue\, SE\, Washington\, DC\, 20003\, United States
CATEGORIES:Children & Teens,Concerts,In-person Events
ATTACH;FMTTYPE=image/jpeg:https://www.hillcenterdc.org/wp-content/uploads/2025/06/2023_08_06_Ms-Niki-at-Lubber-Run-Amphitheater_2.jpg
GEO:38.8829927;-76.9931301
X-APPLE-STRUCTURED-LOCATION;VALUE=URI;X-ADDRESS=Hill Center DC 921 Pennsylvania Avenue SE Washington DC 20003 United States;X-APPLE-RADIUS=500;X-TITLE=921 Pennsylvania Avenue\, SE:geo:-76.9931301,38.8829927
END:VEVENT
BEGIN:VEVENT
DTSTART;TZID=America/New_York:20260515T190000
DTEND;TZID=America/New_York:20260515T210000
DTSTAMP:20260419T121921
CREATED:20260108T142626Z
LAST-MODIFIED:20260108T142858Z
UID:10019177-1778871600-1778878800@www.hillcenterdc.org
SUMMARY:Stone Room Concerts @ Hill Center Featuring Acclaimed Indie-Folk Duo My Politic
DESCRIPTION:In-person Register Here\nCurated by Stone Room Concerts Founder David Holiday \n\nMy Politic is an indie-Folk duo created by Kaston Guffey And Nick Pankey. The two of them grew up in the Ozarks & have been performing as My Politic for over 15 years. Across 10 releases\, their body of work consistently showcases engaging slice-of-life storytelling\, expertly crafted characters\, highly skilled acoustic instrumentation & sibling like harmonies. Most recently\, My Politic has joined other folk troubadours\, Adeem The Artist\, Margo Cilker & Jaimee Harris for tour stints through the midwest and south. They also made their Woody Guthrie Folk Festival debut in July of 2023 and has returned to Okemah OK every year since. The duo released their latest album\, “Signs of Life” on May 23rd 2025 to critical acclaim. Americana UK says.. “it’s an eye-opening record\, if only because it’s so deeply human and vulnerable. My Politic is still calling things like they see them.” \nAmericana Highways had this to say: “Essentially\, it’s a gem of an album\, one that current fans of My Politic will most certainly love\, while also being a perfect introduction for those new to the duo.” \n“My Politic has a style of intimate songwriting that is often reminiscent of the late great John Prine.” – Nashville Scene – \nThe duo is always busy writing new music and touring the U.S.” \nFull bio here: www.mypoliticmusic.com/about \nDavid Holiday\, a lifelong music aficionado \, founded Stone Room Concerts together with his wife in 2012 to bring intimate\, high-quality performances by local\, national\, and international independent musicians to the DMV area. He has curated and hosted well over 200 concerts over the past decade in his home\, churches\, and Hill Center. \n 
URL:https://www.hillcenterdc.org/event/stone-room-concerts-hill-center-featuring-acclaimed-indie-folk-duo-my-politic/
LOCATION:Hill Center DC\, 921 Pennsylvania Avenue\, SE\, Washington\, DC\, 20003\, United States
CATEGORIES:Concerts,In-person Events
ATTACH;FMTTYPE=image/png:https://www.hillcenterdc.org/wp-content/uploads/2026/01/MyPolitic-.png
GEO:38.8829927;-76.9931301
X-APPLE-STRUCTURED-LOCATION;VALUE=URI;X-ADDRESS=Hill Center DC 921 Pennsylvania Avenue SE Washington DC 20003 United States;X-APPLE-RADIUS=500;X-TITLE=921 Pennsylvania Avenue\, SE:geo:-76.9931301,38.8829927
END:VEVENT
BEGIN:VEVENT
DTSTART;TZID=America/New_York:20260517T163000
DTEND;TZID=America/New_York:20260517T183000
DTSTAMP:20260419T121921
CREATED:20260408T213712Z
LAST-MODIFIED:20260416T192607Z
UID:10019836-1779035400-1779042600@www.hillcenterdc.org
SUMMARY:American Roots Concert Series: Geno Delafose & French Rockin' Boogie
DESCRIPTION:In-person Register Here \nGeno Delafose (born February 6\, 1971 in Eunice\, Louisiana) is a zydeco accordionist and singer. His sound is deeply rooted in traditional Creole music with strong influences from Cajun music and also country and western. His father is the famous zydeco accordion player John Delafose. \nDelafose was born and raised in Eunice\, Louisiana. At the age of 8\, he joined his father’s band the Eunice Playboys as a rubboard player\, and continued to play with the band until his father’s death in 1994. He also appeared on several of the band’s recordings. He switched to the accordion in the early 1990s and started to play as an opening act for his father. \nIn 1994\, he debuted with the album French Rockin’ Boogie on Rounder Records. The name of this album also became the name of his band with whom he still plays with today. He released two more albums from the label before signing with Times Square Records to release Everybody’s Dancin’ in 2003. He has also appeared on the compilation album Creole Bred: A Tribute to Creole & Zydeco released in 2004 on Vanguard Records. He has been nominated for a GRAMMY Award in the “Best Zydeco Or Cajun Music Album” category for the album Le Cowboy Creole (2007). \nDelafose lives in Duralde\, Louisiana near Eunice where he operates his Double D Ranch raising cattle and horses. He also holds fan appreciation parties annually. \nWebsite: https://www.genodelafosemusic.com/\nFacebook: https://www.facebook.com/geno.delafose.9\nInstagram: https://www.instagram.com/genodelafose/\nSpotify: https://open.spotify.com/artist/7zKDS8dI38NouMTa55W2xr?si=ncRKbl5oR_K3XugHBcvCIQ \n \nThanks to all our sponsors: \n  \n\n\n   
URL:https://www.hillcenterdc.org/event/american-roots-concert-series-geno-delafose/
LOCATION:Hill Center DC\, 921 Pennsylvania Avenue\, SE\, Washington\, DC\, 20003\, United States
CATEGORIES:Concerts,In-person Events
ATTACH;FMTTYPE=image/png:https://www.hillcenterdc.org/wp-content/uploads/2026/04/Geno-Delafose-Photo.png
ORGANIZER;CN="%E2%80%8C%E2%80%8CAmerican Roots Concert Series Presented by Quicksilver Productions Foundation":MAILTO:martha@quicksilverproductions.net
GEO:38.8829927;-76.9931301
X-APPLE-STRUCTURED-LOCATION;VALUE=URI;X-ADDRESS=Hill Center DC 921 Pennsylvania Avenue SE Washington DC 20003 United States;X-APPLE-RADIUS=500;X-TITLE=921 Pennsylvania Avenue\, SE:geo:-76.9931301,38.8829927
END:VEVENT
END:VCALENDAR