BEGIN:VCALENDAR
VERSION:2.0
PRODID:-//Hill Center DC - ECPv6.15.20//NONSGML v1.0//EN
CALSCALE:GREGORIAN
METHOD:PUBLISH
X-WR-CALNAME:Hill Center DC
X-ORIGINAL-URL:https://www.hillcenterdc.org
X-WR-CALDESC:Events for Hill Center DC
REFRESH-INTERVAL;VALUE=DURATION:PT1H
X-Robots-Tag:noindex
X-PUBLISHED-TTL:PT1H
BEGIN:VTIMEZONE
TZID:America/New_York
BEGIN:DAYLIGHT
TZOFFSETFROM:-0500
TZOFFSETTO:-0400
TZNAME:EDT
DTSTART:20270314T070000
END:DAYLIGHT
BEGIN:STANDARD
TZOFFSETFROM:-0400
TZOFFSETTO:-0500
TZNAME:EST
DTSTART:20271107T060000
END:STANDARD
BEGIN:DAYLIGHT
TZOFFSETFROM:-0500
TZOFFSETTO:-0400
TZNAME:EDT
DTSTART:20280312T070000
END:DAYLIGHT
BEGIN:STANDARD
TZOFFSETFROM:-0400
TZOFFSETTO:-0500
TZNAME:EST
DTSTART:20281105T060000
END:STANDARD
BEGIN:DAYLIGHT
TZOFFSETFROM:-0500
TZOFFSETTO:-0400
TZNAME:EDT
DTSTART:20290311T070000
END:DAYLIGHT
BEGIN:STANDARD
TZOFFSETFROM:-0400
TZOFFSETTO:-0500
TZNAME:EST
DTSTART:20291104T060000
END:STANDARD
END:VTIMEZONE
BEGIN:VEVENT
DTSTART;TZID=America/New_York:20280801T153000
DTEND;TZID=America/New_York:20280801T200000
DTSTAMP:20260422T174800
CREATED:20260105T165016Z
LAST-MODIFIED:20260327T223927Z
UID:10018980-1848756600-1848772800@www.hillcenterdc.org
SUMMARY:Piano and Voice Lessons with Ms. Alice
DESCRIPTION:In-person Register Here\n\n\n\nAlice was raised by a family of professional singers and began taking Suzuki piano lessons at age 4. In school\, she joined concert bands playing the French horn and often landed leading roles in musical theater productions at school and in community theaters. Alice studied music at the University of Maryland\, College Park where she served in leadership positions in music honor society Tau Beta Sigma and the Mighty Sound of Maryland Marching Band. Now\, Alice performs and teaches as a professional vocalist\, piano\, trumpet\, and French horn player.\n\n\n\n\n\nAlice wrote original music for\, performed with\, and produced and edited music videos for funk Wammie nominee Strangers That Clique. She currently sings and plays trumpet and keys with award winning musician and climate activist\, Joshua Long\, and she collaborates and performs with Sly on the Bright Side and Dream City Brass. Alice fronts her new band\, The Melting Virgos\, in which she performs her original songs about climate justice and class solidarity.\n\nAlice’s love of music and focus on fun keeps students coming back\, excited to develop their skills. Read more about lessons with Ms. Alice and student testimonials here: www.meltingvirgo.com/services/private-lessons\n\n\n\n\n\n 
URL:https://www.hillcenterdc.org/event/piano-and-voice-lessons-with-ms-alice-3/2028-08-01/
LOCATION:Hill Center DC\, 921 Pennsylvania Avenue\, SE\, Washington\, DC\, 20003\, United States
CATEGORIES:Children & Teens,In-person Events,Music Lessons
ATTACH;FMTTYPE=image/jpeg:https://www.hillcenterdc.org/wp-content/uploads/2025/06/Alice-Music-Instructor.jpg
GEO:38.8829927;-76.9931301
X-APPLE-STRUCTURED-LOCATION;VALUE=URI;X-ADDRESS=Hill Center DC 921 Pennsylvania Avenue SE Washington DC 20003 United States;X-APPLE-RADIUS=500;X-TITLE=921 Pennsylvania Avenue\, SE:geo:-76.9931301,38.8829927
END:VEVENT
BEGIN:VEVENT
DTSTART;TZID=America/New_York:20280802T153000
DTEND;TZID=America/New_York:20280802T200000
DTSTAMP:20260422T174800
CREATED:20250627T184642Z
LAST-MODIFIED:20260327T231636Z
UID:10018719-1848843000-1848859200@www.hillcenterdc.org
SUMMARY:Piano and Voice Lessons with Ms. Alice
DESCRIPTION:In-person Register Here\n\n\n\nAlice was raised by a family of professional singers and began taking Suzuki piano lessons at age 4. In school\, she joined concert bands playing the French horn and often landed leading roles in musical theater productions at school and in community theaters. Alice studied music at the University of Maryland\, College Park where she served in leadership positions in music honor society Tau Beta Sigma and the Mighty Sound of Maryland Marching Band. Now\, Alice performs and teaches as a professional vocalist\, piano\, trumpet\, and French horn player.\n\n\n\n\n\nAlice wrote original music for\, performed with\, and produced and edited music videos for funk Wammie nominee Strangers That Clique. She currently sings and plays trumpet and keys with award winning musician and climate activist\, Joshua Long\, and she collaborates and performs with Sly on the Bright Side and Dream City Brass. Alice fronts her new band\, The Melting Virgos\, in which she performs her original songs about climate justice and class solidarity.\n\nAlice’s love of music and focus on fun keeps students coming back\, excited to develop their skills. Read more about lessons with Ms. Alice and student testimonials here: www.meltingvirgo.com/services/private-lessons\n\n\n\n\n\n 
URL:https://www.hillcenterdc.org/event/summer-piano-and-voice-lessons-with-ms-alice/2028-08-02/
LOCATION:Hill Center DC\, 921 Pennsylvania Avenue\, SE\, Washington\, DC\, 20003\, United States
CATEGORIES:In-person Events,Music Lessons
ATTACH;FMTTYPE=image/jpeg:https://www.hillcenterdc.org/wp-content/uploads/2025/06/Melting-Virgo-.jpg
GEO:38.8829927;-76.9931301
X-APPLE-STRUCTURED-LOCATION;VALUE=URI;X-ADDRESS=Hill Center DC 921 Pennsylvania Avenue SE Washington DC 20003 United States;X-APPLE-RADIUS=500;X-TITLE=921 Pennsylvania Avenue\, SE:geo:-76.9931301,38.8829927
END:VEVENT
BEGIN:VEVENT
DTSTART;TZID=America/New_York:20280808T153000
DTEND;TZID=America/New_York:20280808T200000
DTSTAMP:20260422T174800
CREATED:20260105T165016Z
LAST-MODIFIED:20260327T223927Z
UID:10018981-1849361400-1849377600@www.hillcenterdc.org
SUMMARY:Piano and Voice Lessons with Ms. Alice
DESCRIPTION:In-person Register Here\n\n\n\nAlice was raised by a family of professional singers and began taking Suzuki piano lessons at age 4. In school\, she joined concert bands playing the French horn and often landed leading roles in musical theater productions at school and in community theaters. Alice studied music at the University of Maryland\, College Park where she served in leadership positions in music honor society Tau Beta Sigma and the Mighty Sound of Maryland Marching Band. Now\, Alice performs and teaches as a professional vocalist\, piano\, trumpet\, and French horn player.\n\n\n\n\n\nAlice wrote original music for\, performed with\, and produced and edited music videos for funk Wammie nominee Strangers That Clique. She currently sings and plays trumpet and keys with award winning musician and climate activist\, Joshua Long\, and she collaborates and performs with Sly on the Bright Side and Dream City Brass. Alice fronts her new band\, The Melting Virgos\, in which she performs her original songs about climate justice and class solidarity.\n\nAlice’s love of music and focus on fun keeps students coming back\, excited to develop their skills. Read more about lessons with Ms. Alice and student testimonials here: www.meltingvirgo.com/services/private-lessons\n\n\n\n\n\n 
URL:https://www.hillcenterdc.org/event/piano-and-voice-lessons-with-ms-alice-3/2028-08-08/
LOCATION:Hill Center DC\, 921 Pennsylvania Avenue\, SE\, Washington\, DC\, 20003\, United States
CATEGORIES:Children & Teens,In-person Events,Music Lessons
ATTACH;FMTTYPE=image/jpeg:https://www.hillcenterdc.org/wp-content/uploads/2025/06/Alice-Music-Instructor.jpg
GEO:38.8829927;-76.9931301
X-APPLE-STRUCTURED-LOCATION;VALUE=URI;X-ADDRESS=Hill Center DC 921 Pennsylvania Avenue SE Washington DC 20003 United States;X-APPLE-RADIUS=500;X-TITLE=921 Pennsylvania Avenue\, SE:geo:-76.9931301,38.8829927
END:VEVENT
BEGIN:VEVENT
DTSTART;TZID=America/New_York:20280809T153000
DTEND;TZID=America/New_York:20280809T200000
DTSTAMP:20260422T174800
CREATED:20250627T184642Z
LAST-MODIFIED:20260327T231636Z
UID:10018720-1849447800-1849464000@www.hillcenterdc.org
SUMMARY:Piano and Voice Lessons with Ms. Alice
DESCRIPTION:In-person Register Here\n\n\n\nAlice was raised by a family of professional singers and began taking Suzuki piano lessons at age 4. In school\, she joined concert bands playing the French horn and often landed leading roles in musical theater productions at school and in community theaters. Alice studied music at the University of Maryland\, College Park where she served in leadership positions in music honor society Tau Beta Sigma and the Mighty Sound of Maryland Marching Band. Now\, Alice performs and teaches as a professional vocalist\, piano\, trumpet\, and French horn player.\n\n\n\n\n\nAlice wrote original music for\, performed with\, and produced and edited music videos for funk Wammie nominee Strangers That Clique. She currently sings and plays trumpet and keys with award winning musician and climate activist\, Joshua Long\, and she collaborates and performs with Sly on the Bright Side and Dream City Brass. Alice fronts her new band\, The Melting Virgos\, in which she performs her original songs about climate justice and class solidarity.\n\nAlice’s love of music and focus on fun keeps students coming back\, excited to develop their skills. Read more about lessons with Ms. Alice and student testimonials here: www.meltingvirgo.com/services/private-lessons\n\n\n\n\n\n 
URL:https://www.hillcenterdc.org/event/summer-piano-and-voice-lessons-with-ms-alice/2028-08-09/
LOCATION:Hill Center DC\, 921 Pennsylvania Avenue\, SE\, Washington\, DC\, 20003\, United States
CATEGORIES:In-person Events,Music Lessons
ATTACH;FMTTYPE=image/jpeg:https://www.hillcenterdc.org/wp-content/uploads/2025/06/Melting-Virgo-.jpg
GEO:38.8829927;-76.9931301
X-APPLE-STRUCTURED-LOCATION;VALUE=URI;X-ADDRESS=Hill Center DC 921 Pennsylvania Avenue SE Washington DC 20003 United States;X-APPLE-RADIUS=500;X-TITLE=921 Pennsylvania Avenue\, SE:geo:-76.9931301,38.8829927
END:VEVENT
BEGIN:VEVENT
DTSTART;TZID=America/New_York:20280815T153000
DTEND;TZID=America/New_York:20280815T200000
DTSTAMP:20260422T174800
CREATED:20260105T165016Z
LAST-MODIFIED:20260327T223927Z
UID:10018982-1849966200-1849982400@www.hillcenterdc.org
SUMMARY:Piano and Voice Lessons with Ms. Alice
DESCRIPTION:In-person Register Here\n\n\n\nAlice was raised by a family of professional singers and began taking Suzuki piano lessons at age 4. In school\, she joined concert bands playing the French horn and often landed leading roles in musical theater productions at school and in community theaters. Alice studied music at the University of Maryland\, College Park where she served in leadership positions in music honor society Tau Beta Sigma and the Mighty Sound of Maryland Marching Band. Now\, Alice performs and teaches as a professional vocalist\, piano\, trumpet\, and French horn player.\n\n\n\n\n\nAlice wrote original music for\, performed with\, and produced and edited music videos for funk Wammie nominee Strangers That Clique. She currently sings and plays trumpet and keys with award winning musician and climate activist\, Joshua Long\, and she collaborates and performs with Sly on the Bright Side and Dream City Brass. Alice fronts her new band\, The Melting Virgos\, in which she performs her original songs about climate justice and class solidarity.\n\nAlice’s love of music and focus on fun keeps students coming back\, excited to develop their skills. Read more about lessons with Ms. Alice and student testimonials here: www.meltingvirgo.com/services/private-lessons\n\n\n\n\n\n 
URL:https://www.hillcenterdc.org/event/piano-and-voice-lessons-with-ms-alice-3/2028-08-15/
LOCATION:Hill Center DC\, 921 Pennsylvania Avenue\, SE\, Washington\, DC\, 20003\, United States
CATEGORIES:Children & Teens,In-person Events,Music Lessons
ATTACH;FMTTYPE=image/jpeg:https://www.hillcenterdc.org/wp-content/uploads/2025/06/Alice-Music-Instructor.jpg
GEO:38.8829927;-76.9931301
X-APPLE-STRUCTURED-LOCATION;VALUE=URI;X-ADDRESS=Hill Center DC 921 Pennsylvania Avenue SE Washington DC 20003 United States;X-APPLE-RADIUS=500;X-TITLE=921 Pennsylvania Avenue\, SE:geo:-76.9931301,38.8829927
END:VEVENT
BEGIN:VEVENT
DTSTART;TZID=America/New_York:20280816T153000
DTEND;TZID=America/New_York:20280816T200000
DTSTAMP:20260422T174800
CREATED:20250627T184642Z
LAST-MODIFIED:20260327T231636Z
UID:10018721-1850052600-1850068800@www.hillcenterdc.org
SUMMARY:Piano and Voice Lessons with Ms. Alice
DESCRIPTION:In-person Register Here\n\n\n\nAlice was raised by a family of professional singers and began taking Suzuki piano lessons at age 4. In school\, she joined concert bands playing the French horn and often landed leading roles in musical theater productions at school and in community theaters. Alice studied music at the University of Maryland\, College Park where she served in leadership positions in music honor society Tau Beta Sigma and the Mighty Sound of Maryland Marching Band. Now\, Alice performs and teaches as a professional vocalist\, piano\, trumpet\, and French horn player.\n\n\n\n\n\nAlice wrote original music for\, performed with\, and produced and edited music videos for funk Wammie nominee Strangers That Clique. She currently sings and plays trumpet and keys with award winning musician and climate activist\, Joshua Long\, and she collaborates and performs with Sly on the Bright Side and Dream City Brass. Alice fronts her new band\, The Melting Virgos\, in which she performs her original songs about climate justice and class solidarity.\n\nAlice’s love of music and focus on fun keeps students coming back\, excited to develop their skills. Read more about lessons with Ms. Alice and student testimonials here: www.meltingvirgo.com/services/private-lessons\n\n\n\n\n\n 
URL:https://www.hillcenterdc.org/event/summer-piano-and-voice-lessons-with-ms-alice/2028-08-16/
LOCATION:Hill Center DC\, 921 Pennsylvania Avenue\, SE\, Washington\, DC\, 20003\, United States
CATEGORIES:In-person Events,Music Lessons
ATTACH;FMTTYPE=image/jpeg:https://www.hillcenterdc.org/wp-content/uploads/2025/06/Melting-Virgo-.jpg
GEO:38.8829927;-76.9931301
X-APPLE-STRUCTURED-LOCATION;VALUE=URI;X-ADDRESS=Hill Center DC 921 Pennsylvania Avenue SE Washington DC 20003 United States;X-APPLE-RADIUS=500;X-TITLE=921 Pennsylvania Avenue\, SE:geo:-76.9931301,38.8829927
END:VEVENT
BEGIN:VEVENT
DTSTART;TZID=America/New_York:20280822T153000
DTEND;TZID=America/New_York:20280822T200000
DTSTAMP:20260422T174800
CREATED:20260105T165016Z
LAST-MODIFIED:20260327T223927Z
UID:10018983-1850571000-1850587200@www.hillcenterdc.org
SUMMARY:Piano and Voice Lessons with Ms. Alice
DESCRIPTION:In-person Register Here\n\n\n\nAlice was raised by a family of professional singers and began taking Suzuki piano lessons at age 4. In school\, she joined concert bands playing the French horn and often landed leading roles in musical theater productions at school and in community theaters. Alice studied music at the University of Maryland\, College Park where she served in leadership positions in music honor society Tau Beta Sigma and the Mighty Sound of Maryland Marching Band. Now\, Alice performs and teaches as a professional vocalist\, piano\, trumpet\, and French horn player.\n\n\n\n\n\nAlice wrote original music for\, performed with\, and produced and edited music videos for funk Wammie nominee Strangers That Clique. She currently sings and plays trumpet and keys with award winning musician and climate activist\, Joshua Long\, and she collaborates and performs with Sly on the Bright Side and Dream City Brass. Alice fronts her new band\, The Melting Virgos\, in which she performs her original songs about climate justice and class solidarity.\n\nAlice’s love of music and focus on fun keeps students coming back\, excited to develop their skills. Read more about lessons with Ms. Alice and student testimonials here: www.meltingvirgo.com/services/private-lessons\n\n\n\n\n\n 
URL:https://www.hillcenterdc.org/event/piano-and-voice-lessons-with-ms-alice-3/2028-08-22/
LOCATION:Hill Center DC\, 921 Pennsylvania Avenue\, SE\, Washington\, DC\, 20003\, United States
CATEGORIES:Children & Teens,In-person Events,Music Lessons
ATTACH;FMTTYPE=image/jpeg:https://www.hillcenterdc.org/wp-content/uploads/2025/06/Alice-Music-Instructor.jpg
GEO:38.8829927;-76.9931301
X-APPLE-STRUCTURED-LOCATION;VALUE=URI;X-ADDRESS=Hill Center DC 921 Pennsylvania Avenue SE Washington DC 20003 United States;X-APPLE-RADIUS=500;X-TITLE=921 Pennsylvania Avenue\, SE:geo:-76.9931301,38.8829927
END:VEVENT
BEGIN:VEVENT
DTSTART;TZID=America/New_York:20280823T153000
DTEND;TZID=America/New_York:20280823T200000
DTSTAMP:20260422T174800
CREATED:20250627T184642Z
LAST-MODIFIED:20260327T231636Z
UID:10018722-1850657400-1850673600@www.hillcenterdc.org
SUMMARY:Piano and Voice Lessons with Ms. Alice
DESCRIPTION:In-person Register Here\n\n\n\nAlice was raised by a family of professional singers and began taking Suzuki piano lessons at age 4. In school\, she joined concert bands playing the French horn and often landed leading roles in musical theater productions at school and in community theaters. Alice studied music at the University of Maryland\, College Park where she served in leadership positions in music honor society Tau Beta Sigma and the Mighty Sound of Maryland Marching Band. Now\, Alice performs and teaches as a professional vocalist\, piano\, trumpet\, and French horn player.\n\n\n\n\n\nAlice wrote original music for\, performed with\, and produced and edited music videos for funk Wammie nominee Strangers That Clique. She currently sings and plays trumpet and keys with award winning musician and climate activist\, Joshua Long\, and she collaborates and performs with Sly on the Bright Side and Dream City Brass. Alice fronts her new band\, The Melting Virgos\, in which she performs her original songs about climate justice and class solidarity.\n\nAlice’s love of music and focus on fun keeps students coming back\, excited to develop their skills. Read more about lessons with Ms. Alice and student testimonials here: www.meltingvirgo.com/services/private-lessons\n\n\n\n\n\n 
URL:https://www.hillcenterdc.org/event/summer-piano-and-voice-lessons-with-ms-alice/2028-08-23/
LOCATION:Hill Center DC\, 921 Pennsylvania Avenue\, SE\, Washington\, DC\, 20003\, United States
CATEGORIES:In-person Events,Music Lessons
ATTACH;FMTTYPE=image/jpeg:https://www.hillcenterdc.org/wp-content/uploads/2025/06/Melting-Virgo-.jpg
GEO:38.8829927;-76.9931301
X-APPLE-STRUCTURED-LOCATION;VALUE=URI;X-ADDRESS=Hill Center DC 921 Pennsylvania Avenue SE Washington DC 20003 United States;X-APPLE-RADIUS=500;X-TITLE=921 Pennsylvania Avenue\, SE:geo:-76.9931301,38.8829927
END:VEVENT
BEGIN:VEVENT
DTSTART;TZID=America/New_York:20280829T153000
DTEND;TZID=America/New_York:20280829T200000
DTSTAMP:20260422T174800
CREATED:20260105T165016Z
LAST-MODIFIED:20260327T223927Z
UID:10018984-1851175800-1851192000@www.hillcenterdc.org
SUMMARY:Piano and Voice Lessons with Ms. Alice
DESCRIPTION:In-person Register Here\n\n\n\nAlice was raised by a family of professional singers and began taking Suzuki piano lessons at age 4. In school\, she joined concert bands playing the French horn and often landed leading roles in musical theater productions at school and in community theaters. Alice studied music at the University of Maryland\, College Park where she served in leadership positions in music honor society Tau Beta Sigma and the Mighty Sound of Maryland Marching Band. Now\, Alice performs and teaches as a professional vocalist\, piano\, trumpet\, and French horn player.\n\n\n\n\n\nAlice wrote original music for\, performed with\, and produced and edited music videos for funk Wammie nominee Strangers That Clique. She currently sings and plays trumpet and keys with award winning musician and climate activist\, Joshua Long\, and she collaborates and performs with Sly on the Bright Side and Dream City Brass. Alice fronts her new band\, The Melting Virgos\, in which she performs her original songs about climate justice and class solidarity.\n\nAlice’s love of music and focus on fun keeps students coming back\, excited to develop their skills. Read more about lessons with Ms. Alice and student testimonials here: www.meltingvirgo.com/services/private-lessons\n\n\n\n\n\n 
URL:https://www.hillcenterdc.org/event/piano-and-voice-lessons-with-ms-alice-3/2028-08-29/
LOCATION:Hill Center DC\, 921 Pennsylvania Avenue\, SE\, Washington\, DC\, 20003\, United States
CATEGORIES:Children & Teens,In-person Events,Music Lessons
ATTACH;FMTTYPE=image/jpeg:https://www.hillcenterdc.org/wp-content/uploads/2025/06/Alice-Music-Instructor.jpg
GEO:38.8829927;-76.9931301
X-APPLE-STRUCTURED-LOCATION;VALUE=URI;X-ADDRESS=Hill Center DC 921 Pennsylvania Avenue SE Washington DC 20003 United States;X-APPLE-RADIUS=500;X-TITLE=921 Pennsylvania Avenue\, SE:geo:-76.9931301,38.8829927
END:VEVENT
BEGIN:VEVENT
DTSTART;TZID=America/New_York:20280830T153000
DTEND;TZID=America/New_York:20280830T200000
DTSTAMP:20260422T174800
CREATED:20250627T184642Z
LAST-MODIFIED:20260327T231636Z
UID:10018723-1851262200-1851278400@www.hillcenterdc.org
SUMMARY:Piano and Voice Lessons with Ms. Alice
DESCRIPTION:In-person Register Here\n\n\n\nAlice was raised by a family of professional singers and began taking Suzuki piano lessons at age 4. In school\, she joined concert bands playing the French horn and often landed leading roles in musical theater productions at school and in community theaters. Alice studied music at the University of Maryland\, College Park where she served in leadership positions in music honor society Tau Beta Sigma and the Mighty Sound of Maryland Marching Band. Now\, Alice performs and teaches as a professional vocalist\, piano\, trumpet\, and French horn player.\n\n\n\n\n\nAlice wrote original music for\, performed with\, and produced and edited music videos for funk Wammie nominee Strangers That Clique. She currently sings and plays trumpet and keys with award winning musician and climate activist\, Joshua Long\, and she collaborates and performs with Sly on the Bright Side and Dream City Brass. Alice fronts her new band\, The Melting Virgos\, in which she performs her original songs about climate justice and class solidarity.\n\nAlice’s love of music and focus on fun keeps students coming back\, excited to develop their skills. Read more about lessons with Ms. Alice and student testimonials here: www.meltingvirgo.com/services/private-lessons\n\n\n\n\n\n 
URL:https://www.hillcenterdc.org/event/summer-piano-and-voice-lessons-with-ms-alice/2028-08-30/
LOCATION:Hill Center DC\, 921 Pennsylvania Avenue\, SE\, Washington\, DC\, 20003\, United States
CATEGORIES:In-person Events,Music Lessons
ATTACH;FMTTYPE=image/jpeg:https://www.hillcenterdc.org/wp-content/uploads/2025/06/Melting-Virgo-.jpg
GEO:38.8829927;-76.9931301
X-APPLE-STRUCTURED-LOCATION;VALUE=URI;X-ADDRESS=Hill Center DC 921 Pennsylvania Avenue SE Washington DC 20003 United States;X-APPLE-RADIUS=500;X-TITLE=921 Pennsylvania Avenue\, SE:geo:-76.9931301,38.8829927
END:VEVENT
END:VCALENDAR