BEGIN:VCALENDAR
VERSION:2.0
PRODID:-//Hill Center DC - ECPv6.15.20//NONSGML v1.0//EN
CALSCALE:GREGORIAN
METHOD:PUBLISH
X-WR-CALNAME:Hill Center DC
X-ORIGINAL-URL:https://www.hillcenterdc.org
X-WR-CALDESC:Events for Hill Center DC
REFRESH-INTERVAL;VALUE=DURATION:PT1H
X-Robots-Tag:noindex
X-PUBLISHED-TTL:PT1H
BEGIN:VTIMEZONE
TZID:America/New_York
BEGIN:DAYLIGHT
TZOFFSETFROM:-0500
TZOFFSETTO:-0400
TZNAME:EDT
DTSTART:20280312T070000
END:DAYLIGHT
BEGIN:STANDARD
TZOFFSETFROM:-0400
TZOFFSETTO:-0500
TZNAME:EST
DTSTART:20281105T060000
END:STANDARD
BEGIN:DAYLIGHT
TZOFFSETFROM:-0500
TZOFFSETTO:-0400
TZNAME:EDT
DTSTART:20290311T070000
END:DAYLIGHT
BEGIN:STANDARD
TZOFFSETFROM:-0400
TZOFFSETTO:-0500
TZNAME:EST
DTSTART:20291104T060000
END:STANDARD
BEGIN:DAYLIGHT
TZOFFSETFROM:-0500
TZOFFSETTO:-0400
TZNAME:EDT
DTSTART:20300310T070000
END:DAYLIGHT
BEGIN:STANDARD
TZOFFSETFROM:-0400
TZOFFSETTO:-0500
TZNAME:EST
DTSTART:20301103T060000
END:STANDARD
END:VTIMEZONE
BEGIN:VEVENT
DTSTART;TZID=America/New_York:20290306T153000
DTEND;TZID=America/New_York:20290306T200000
DTSTAMP:20260423T025908
CREATED:20260105T165016Z
LAST-MODIFIED:20260327T223927Z
UID:10019011-1867505400-1867521600@www.hillcenterdc.org
SUMMARY:Piano and Voice Lessons with Ms. Alice
DESCRIPTION:In-person Register Here\n\n\n\nAlice was raised by a family of professional singers and began taking Suzuki piano lessons at age 4. In school\, she joined concert bands playing the French horn and often landed leading roles in musical theater productions at school and in community theaters. Alice studied music at the University of Maryland\, College Park where she served in leadership positions in music honor society Tau Beta Sigma and the Mighty Sound of Maryland Marching Band. Now\, Alice performs and teaches as a professional vocalist\, piano\, trumpet\, and French horn player.\n\n\n\n\n\nAlice wrote original music for\, performed with\, and produced and edited music videos for funk Wammie nominee Strangers That Clique. She currently sings and plays trumpet and keys with award winning musician and climate activist\, Joshua Long\, and she collaborates and performs with Sly on the Bright Side and Dream City Brass. Alice fronts her new band\, The Melting Virgos\, in which she performs her original songs about climate justice and class solidarity.\n\nAlice’s love of music and focus on fun keeps students coming back\, excited to develop their skills. Read more about lessons with Ms. Alice and student testimonials here: www.meltingvirgo.com/services/private-lessons\n\n\n\n\n\n 
URL:https://www.hillcenterdc.org/event/piano-and-voice-lessons-with-ms-alice-3/2029-03-06/
LOCATION:Hill Center DC\, 921 Pennsylvania Avenue\, SE\, Washington\, DC\, 20003\, United States
CATEGORIES:Children & Teens,In-person Events,Music Lessons
ATTACH;FMTTYPE=image/jpeg:https://www.hillcenterdc.org/wp-content/uploads/2025/06/Alice-Music-Instructor.jpg
GEO:38.8829927;-76.9931301
X-APPLE-STRUCTURED-LOCATION;VALUE=URI;X-ADDRESS=Hill Center DC 921 Pennsylvania Avenue SE Washington DC 20003 United States;X-APPLE-RADIUS=500;X-TITLE=921 Pennsylvania Avenue\, SE:geo:-76.9931301,38.8829927
END:VEVENT
BEGIN:VEVENT
DTSTART;TZID=America/New_York:20290307T153000
DTEND;TZID=America/New_York:20290307T200000
DTSTAMP:20260423T025908
CREATED:20250627T184642Z
LAST-MODIFIED:20260327T231636Z
UID:10018750-1867591800-1867608000@www.hillcenterdc.org
SUMMARY:Piano and Voice Lessons with Ms. Alice
DESCRIPTION:In-person Register Here\n\n\n\nAlice was raised by a family of professional singers and began taking Suzuki piano lessons at age 4. In school\, she joined concert bands playing the French horn and often landed leading roles in musical theater productions at school and in community theaters. Alice studied music at the University of Maryland\, College Park where she served in leadership positions in music honor society Tau Beta Sigma and the Mighty Sound of Maryland Marching Band. Now\, Alice performs and teaches as a professional vocalist\, piano\, trumpet\, and French horn player.\n\n\n\n\n\nAlice wrote original music for\, performed with\, and produced and edited music videos for funk Wammie nominee Strangers That Clique. She currently sings and plays trumpet and keys with award winning musician and climate activist\, Joshua Long\, and she collaborates and performs with Sly on the Bright Side and Dream City Brass. Alice fronts her new band\, The Melting Virgos\, in which she performs her original songs about climate justice and class solidarity.\n\nAlice’s love of music and focus on fun keeps students coming back\, excited to develop their skills. Read more about lessons with Ms. Alice and student testimonials here: www.meltingvirgo.com/services/private-lessons\n\n\n\n\n\n 
URL:https://www.hillcenterdc.org/event/summer-piano-and-voice-lessons-with-ms-alice/2029-03-07/
LOCATION:Hill Center DC\, 921 Pennsylvania Avenue\, SE\, Washington\, DC\, 20003\, United States
CATEGORIES:In-person Events,Music Lessons
ATTACH;FMTTYPE=image/jpeg:https://www.hillcenterdc.org/wp-content/uploads/2025/06/Melting-Virgo-.jpg
GEO:38.8829927;-76.9931301
X-APPLE-STRUCTURED-LOCATION;VALUE=URI;X-ADDRESS=Hill Center DC 921 Pennsylvania Avenue SE Washington DC 20003 United States;X-APPLE-RADIUS=500;X-TITLE=921 Pennsylvania Avenue\, SE:geo:-76.9931301,38.8829927
END:VEVENT
BEGIN:VEVENT
DTSTART;TZID=America/New_York:20290313T153000
DTEND;TZID=America/New_York:20290313T200000
DTSTAMP:20260423T025908
CREATED:20260105T165016Z
LAST-MODIFIED:20260327T223927Z
UID:10019012-1868110200-1868126400@www.hillcenterdc.org
SUMMARY:Piano and Voice Lessons with Ms. Alice
DESCRIPTION:In-person Register Here\n\n\n\nAlice was raised by a family of professional singers and began taking Suzuki piano lessons at age 4. In school\, she joined concert bands playing the French horn and often landed leading roles in musical theater productions at school and in community theaters. Alice studied music at the University of Maryland\, College Park where she served in leadership positions in music honor society Tau Beta Sigma and the Mighty Sound of Maryland Marching Band. Now\, Alice performs and teaches as a professional vocalist\, piano\, trumpet\, and French horn player.\n\n\n\n\n\nAlice wrote original music for\, performed with\, and produced and edited music videos for funk Wammie nominee Strangers That Clique. She currently sings and plays trumpet and keys with award winning musician and climate activist\, Joshua Long\, and she collaborates and performs with Sly on the Bright Side and Dream City Brass. Alice fronts her new band\, The Melting Virgos\, in which she performs her original songs about climate justice and class solidarity.\n\nAlice’s love of music and focus on fun keeps students coming back\, excited to develop their skills. Read more about lessons with Ms. Alice and student testimonials here: www.meltingvirgo.com/services/private-lessons\n\n\n\n\n\n 
URL:https://www.hillcenterdc.org/event/piano-and-voice-lessons-with-ms-alice-3/2029-03-13/
LOCATION:Hill Center DC\, 921 Pennsylvania Avenue\, SE\, Washington\, DC\, 20003\, United States
CATEGORIES:Children & Teens,In-person Events,Music Lessons
ATTACH;FMTTYPE=image/jpeg:https://www.hillcenterdc.org/wp-content/uploads/2025/06/Alice-Music-Instructor.jpg
GEO:38.8829927;-76.9931301
X-APPLE-STRUCTURED-LOCATION;VALUE=URI;X-ADDRESS=Hill Center DC 921 Pennsylvania Avenue SE Washington DC 20003 United States;X-APPLE-RADIUS=500;X-TITLE=921 Pennsylvania Avenue\, SE:geo:-76.9931301,38.8829927
END:VEVENT
BEGIN:VEVENT
DTSTART;TZID=America/New_York:20290314T153000
DTEND;TZID=America/New_York:20290314T200000
DTSTAMP:20260423T025908
CREATED:20250627T184642Z
LAST-MODIFIED:20260327T231636Z
UID:10018751-1868196600-1868212800@www.hillcenterdc.org
SUMMARY:Piano and Voice Lessons with Ms. Alice
DESCRIPTION:In-person Register Here\n\n\n\nAlice was raised by a family of professional singers and began taking Suzuki piano lessons at age 4. In school\, she joined concert bands playing the French horn and often landed leading roles in musical theater productions at school and in community theaters. Alice studied music at the University of Maryland\, College Park where she served in leadership positions in music honor society Tau Beta Sigma and the Mighty Sound of Maryland Marching Band. Now\, Alice performs and teaches as a professional vocalist\, piano\, trumpet\, and French horn player.\n\n\n\n\n\nAlice wrote original music for\, performed with\, and produced and edited music videos for funk Wammie nominee Strangers That Clique. She currently sings and plays trumpet and keys with award winning musician and climate activist\, Joshua Long\, and she collaborates and performs with Sly on the Bright Side and Dream City Brass. Alice fronts her new band\, The Melting Virgos\, in which she performs her original songs about climate justice and class solidarity.\n\nAlice’s love of music and focus on fun keeps students coming back\, excited to develop their skills. Read more about lessons with Ms. Alice and student testimonials here: www.meltingvirgo.com/services/private-lessons\n\n\n\n\n\n 
URL:https://www.hillcenterdc.org/event/summer-piano-and-voice-lessons-with-ms-alice/2029-03-14/
LOCATION:Hill Center DC\, 921 Pennsylvania Avenue\, SE\, Washington\, DC\, 20003\, United States
CATEGORIES:In-person Events,Music Lessons
ATTACH;FMTTYPE=image/jpeg:https://www.hillcenterdc.org/wp-content/uploads/2025/06/Melting-Virgo-.jpg
GEO:38.8829927;-76.9931301
X-APPLE-STRUCTURED-LOCATION;VALUE=URI;X-ADDRESS=Hill Center DC 921 Pennsylvania Avenue SE Washington DC 20003 United States;X-APPLE-RADIUS=500;X-TITLE=921 Pennsylvania Avenue\, SE:geo:-76.9931301,38.8829927
END:VEVENT
BEGIN:VEVENT
DTSTART;TZID=America/New_York:20290320T153000
DTEND;TZID=America/New_York:20290320T200000
DTSTAMP:20260423T025908
CREATED:20260105T165016Z
LAST-MODIFIED:20260327T223927Z
UID:10019013-1868715000-1868731200@www.hillcenterdc.org
SUMMARY:Piano and Voice Lessons with Ms. Alice
DESCRIPTION:In-person Register Here\n\n\n\nAlice was raised by a family of professional singers and began taking Suzuki piano lessons at age 4. In school\, she joined concert bands playing the French horn and often landed leading roles in musical theater productions at school and in community theaters. Alice studied music at the University of Maryland\, College Park where she served in leadership positions in music honor society Tau Beta Sigma and the Mighty Sound of Maryland Marching Band. Now\, Alice performs and teaches as a professional vocalist\, piano\, trumpet\, and French horn player.\n\n\n\n\n\nAlice wrote original music for\, performed with\, and produced and edited music videos for funk Wammie nominee Strangers That Clique. She currently sings and plays trumpet and keys with award winning musician and climate activist\, Joshua Long\, and she collaborates and performs with Sly on the Bright Side and Dream City Brass. Alice fronts her new band\, The Melting Virgos\, in which she performs her original songs about climate justice and class solidarity.\n\nAlice’s love of music and focus on fun keeps students coming back\, excited to develop their skills. Read more about lessons with Ms. Alice and student testimonials here: www.meltingvirgo.com/services/private-lessons\n\n\n\n\n\n 
URL:https://www.hillcenterdc.org/event/piano-and-voice-lessons-with-ms-alice-3/2029-03-20/
LOCATION:Hill Center DC\, 921 Pennsylvania Avenue\, SE\, Washington\, DC\, 20003\, United States
CATEGORIES:Children & Teens,In-person Events,Music Lessons
ATTACH;FMTTYPE=image/jpeg:https://www.hillcenterdc.org/wp-content/uploads/2025/06/Alice-Music-Instructor.jpg
GEO:38.8829927;-76.9931301
X-APPLE-STRUCTURED-LOCATION;VALUE=URI;X-ADDRESS=Hill Center DC 921 Pennsylvania Avenue SE Washington DC 20003 United States;X-APPLE-RADIUS=500;X-TITLE=921 Pennsylvania Avenue\, SE:geo:-76.9931301,38.8829927
END:VEVENT
BEGIN:VEVENT
DTSTART;TZID=America/New_York:20290321T153000
DTEND;TZID=America/New_York:20290321T200000
DTSTAMP:20260423T025908
CREATED:20250627T184642Z
LAST-MODIFIED:20260327T231636Z
UID:10018752-1868801400-1868817600@www.hillcenterdc.org
SUMMARY:Piano and Voice Lessons with Ms. Alice
DESCRIPTION:In-person Register Here\n\n\n\nAlice was raised by a family of professional singers and began taking Suzuki piano lessons at age 4. In school\, she joined concert bands playing the French horn and often landed leading roles in musical theater productions at school and in community theaters. Alice studied music at the University of Maryland\, College Park where she served in leadership positions in music honor society Tau Beta Sigma and the Mighty Sound of Maryland Marching Band. Now\, Alice performs and teaches as a professional vocalist\, piano\, trumpet\, and French horn player.\n\n\n\n\n\nAlice wrote original music for\, performed with\, and produced and edited music videos for funk Wammie nominee Strangers That Clique. She currently sings and plays trumpet and keys with award winning musician and climate activist\, Joshua Long\, and she collaborates and performs with Sly on the Bright Side and Dream City Brass. Alice fronts her new band\, The Melting Virgos\, in which she performs her original songs about climate justice and class solidarity.\n\nAlice’s love of music and focus on fun keeps students coming back\, excited to develop their skills. Read more about lessons with Ms. Alice and student testimonials here: www.meltingvirgo.com/services/private-lessons\n\n\n\n\n\n 
URL:https://www.hillcenterdc.org/event/summer-piano-and-voice-lessons-with-ms-alice/2029-03-21/
LOCATION:Hill Center DC\, 921 Pennsylvania Avenue\, SE\, Washington\, DC\, 20003\, United States
CATEGORIES:In-person Events,Music Lessons
ATTACH;FMTTYPE=image/jpeg:https://www.hillcenterdc.org/wp-content/uploads/2025/06/Melting-Virgo-.jpg
GEO:38.8829927;-76.9931301
X-APPLE-STRUCTURED-LOCATION;VALUE=URI;X-ADDRESS=Hill Center DC 921 Pennsylvania Avenue SE Washington DC 20003 United States;X-APPLE-RADIUS=500;X-TITLE=921 Pennsylvania Avenue\, SE:geo:-76.9931301,38.8829927
END:VEVENT
BEGIN:VEVENT
DTSTART;TZID=America/New_York:20290327T153000
DTEND;TZID=America/New_York:20290327T200000
DTSTAMP:20260423T025908
CREATED:20260105T165016Z
LAST-MODIFIED:20260327T223927Z
UID:10019014-1869319800-1869336000@www.hillcenterdc.org
SUMMARY:Piano and Voice Lessons with Ms. Alice
DESCRIPTION:In-person Register Here\n\n\n\nAlice was raised by a family of professional singers and began taking Suzuki piano lessons at age 4. In school\, she joined concert bands playing the French horn and often landed leading roles in musical theater productions at school and in community theaters. Alice studied music at the University of Maryland\, College Park where she served in leadership positions in music honor society Tau Beta Sigma and the Mighty Sound of Maryland Marching Band. Now\, Alice performs and teaches as a professional vocalist\, piano\, trumpet\, and French horn player.\n\n\n\n\n\nAlice wrote original music for\, performed with\, and produced and edited music videos for funk Wammie nominee Strangers That Clique. She currently sings and plays trumpet and keys with award winning musician and climate activist\, Joshua Long\, and she collaborates and performs with Sly on the Bright Side and Dream City Brass. Alice fronts her new band\, The Melting Virgos\, in which she performs her original songs about climate justice and class solidarity.\n\nAlice’s love of music and focus on fun keeps students coming back\, excited to develop their skills. Read more about lessons with Ms. Alice and student testimonials here: www.meltingvirgo.com/services/private-lessons\n\n\n\n\n\n 
URL:https://www.hillcenterdc.org/event/piano-and-voice-lessons-with-ms-alice-3/2029-03-27/
LOCATION:Hill Center DC\, 921 Pennsylvania Avenue\, SE\, Washington\, DC\, 20003\, United States
CATEGORIES:Children & Teens,In-person Events,Music Lessons
ATTACH;FMTTYPE=image/jpeg:https://www.hillcenterdc.org/wp-content/uploads/2025/06/Alice-Music-Instructor.jpg
GEO:38.8829927;-76.9931301
X-APPLE-STRUCTURED-LOCATION;VALUE=URI;X-ADDRESS=Hill Center DC 921 Pennsylvania Avenue SE Washington DC 20003 United States;X-APPLE-RADIUS=500;X-TITLE=921 Pennsylvania Avenue\, SE:geo:-76.9931301,38.8829927
END:VEVENT
BEGIN:VEVENT
DTSTART;TZID=America/New_York:20290328T153000
DTEND;TZID=America/New_York:20290328T200000
DTSTAMP:20260423T025908
CREATED:20250627T184642Z
LAST-MODIFIED:20260327T231636Z
UID:10018753-1869406200-1869422400@www.hillcenterdc.org
SUMMARY:Piano and Voice Lessons with Ms. Alice
DESCRIPTION:In-person Register Here\n\n\n\nAlice was raised by a family of professional singers and began taking Suzuki piano lessons at age 4. In school\, she joined concert bands playing the French horn and often landed leading roles in musical theater productions at school and in community theaters. Alice studied music at the University of Maryland\, College Park where she served in leadership positions in music honor society Tau Beta Sigma and the Mighty Sound of Maryland Marching Band. Now\, Alice performs and teaches as a professional vocalist\, piano\, trumpet\, and French horn player.\n\n\n\n\n\nAlice wrote original music for\, performed with\, and produced and edited music videos for funk Wammie nominee Strangers That Clique. She currently sings and plays trumpet and keys with award winning musician and climate activist\, Joshua Long\, and she collaborates and performs with Sly on the Bright Side and Dream City Brass. Alice fronts her new band\, The Melting Virgos\, in which she performs her original songs about climate justice and class solidarity.\n\nAlice’s love of music and focus on fun keeps students coming back\, excited to develop their skills. Read more about lessons with Ms. Alice and student testimonials here: www.meltingvirgo.com/services/private-lessons\n\n\n\n\n\n 
URL:https://www.hillcenterdc.org/event/summer-piano-and-voice-lessons-with-ms-alice/2029-03-28/
LOCATION:Hill Center DC\, 921 Pennsylvania Avenue\, SE\, Washington\, DC\, 20003\, United States
CATEGORIES:In-person Events,Music Lessons
ATTACH;FMTTYPE=image/jpeg:https://www.hillcenterdc.org/wp-content/uploads/2025/06/Melting-Virgo-.jpg
GEO:38.8829927;-76.9931301
X-APPLE-STRUCTURED-LOCATION;VALUE=URI;X-ADDRESS=Hill Center DC 921 Pennsylvania Avenue SE Washington DC 20003 United States;X-APPLE-RADIUS=500;X-TITLE=921 Pennsylvania Avenue\, SE:geo:-76.9931301,38.8829927
END:VEVENT
END:VCALENDAR