BEGIN:VCALENDAR
VERSION:2.0
PRODID:-//Hill Center DC - ECPv6.15.20//NONSGML v1.0//EN
CALSCALE:GREGORIAN
METHOD:PUBLISH
X-ORIGINAL-URL:https://www.hillcenterdc.org
X-WR-CALDESC:Events for Hill Center DC
REFRESH-INTERVAL;VALUE=DURATION:PT1H
X-Robots-Tag:noindex
X-PUBLISHED-TTL:PT1H
BEGIN:VTIMEZONE
TZID:America/New_York
BEGIN:DAYLIGHT
TZOFFSETFROM:-0500
TZOFFSETTO:-0400
TZNAME:EDT
DTSTART:20250309T070000
END:DAYLIGHT
BEGIN:STANDARD
TZOFFSETFROM:-0400
TZOFFSETTO:-0500
TZNAME:EST
DTSTART:20251102T060000
END:STANDARD
BEGIN:DAYLIGHT
TZOFFSETFROM:-0500
TZOFFSETTO:-0400
TZNAME:EDT
DTSTART:20260308T070000
END:DAYLIGHT
BEGIN:STANDARD
TZOFFSETFROM:-0400
TZOFFSETTO:-0500
TZNAME:EST
DTSTART:20261101T060000
END:STANDARD
BEGIN:DAYLIGHT
TZOFFSETFROM:-0500
TZOFFSETTO:-0400
TZNAME:EDT
DTSTART:20270314T070000
END:DAYLIGHT
BEGIN:STANDARD
TZOFFSETFROM:-0400
TZOFFSETTO:-0500
TZNAME:EST
DTSTART:20271107T060000
END:STANDARD
END:VTIMEZONE
BEGIN:VEVENT
DTSTART;TZID=America/New_York:20260618T180000
DTEND;TZID=America/New_York:20260618T200000
DTSTAMP:20260420T045337
CREATED:20260211T181643Z
LAST-MODIFIED:20260330T162724Z
UID:10019282-1781805600-1781812800@www.hillcenterdc.org
SUMMARY:Marianne Tshihamba’s Silk Road Cooking Series: Japanese Onigiri
DESCRIPTION:In-person Register HereLet’s time-travel with our taste buds! With Marianne Tshihamba\, we’ll map a culinary journey from Beijing’s bustling markets to the coastal kitchens of Zanzibar\, exploring how Silk Road traders fused ingredients into the world’s first global cuisines. \nLearn the simple yet precise art of seasoning and shaping rice\, plus traditional fillings and wrapping methods\, to create these delicious\, portable comfort-food triangles.
URL:https://www.hillcenterdc.org/event/marianne-tshihambas-silk-road-cooking-series-japanese-onigiri/
LOCATION:Hill Center DC\, 921 Pennsylvania Avenue\, SE\, Washington\, DC\, 20003\, United States
CATEGORIES:Cooking Classes & Tastings,In-person Events
ATTACH;FMTTYPE=image/jpeg:https://www.hillcenterdc.org/wp-content/uploads/2026/02/Japanese-Onigiri.jpeg
GEO:38.8829927;-76.9931301
X-APPLE-STRUCTURED-LOCATION;VALUE=URI;X-ADDRESS=Hill Center DC 921 Pennsylvania Avenue SE Washington DC 20003 United States;X-APPLE-RADIUS=500;X-TITLE=921 Pennsylvania Avenue\, SE:geo:-76.9931301,38.8829927
END:VEVENT
END:VCALENDAR