BEGIN:VCALENDAR
VERSION:2.0
PRODID:-//Hill Center DC - ECPv6.15.20//NONSGML v1.0//EN
CALSCALE:GREGORIAN
METHOD:PUBLISH
X-WR-CALNAME:Hill Center DC
X-ORIGINAL-URL:https://www.hillcenterdc.org
X-WR-CALDESC:Events for Hill Center DC
REFRESH-INTERVAL;VALUE=DURATION:PT1H
X-Robots-Tag:noindex
X-PUBLISHED-TTL:PT1H
BEGIN:VTIMEZONE
TZID:America/New_York
BEGIN:DAYLIGHT
TZOFFSETFROM:-0500
TZOFFSETTO:-0400
TZNAME:EDT
DTSTART:20250309T070000
END:DAYLIGHT
BEGIN:STANDARD
TZOFFSETFROM:-0400
TZOFFSETTO:-0500
TZNAME:EST
DTSTART:20251102T060000
END:STANDARD
BEGIN:DAYLIGHT
TZOFFSETFROM:-0500
TZOFFSETTO:-0400
TZNAME:EDT
DTSTART:20260308T070000
END:DAYLIGHT
BEGIN:STANDARD
TZOFFSETFROM:-0400
TZOFFSETTO:-0500
TZNAME:EST
DTSTART:20261101T060000
END:STANDARD
BEGIN:DAYLIGHT
TZOFFSETFROM:-0500
TZOFFSETTO:-0400
TZNAME:EDT
DTSTART:20270314T070000
END:DAYLIGHT
BEGIN:STANDARD
TZOFFSETFROM:-0400
TZOFFSETTO:-0500
TZNAME:EST
DTSTART:20271107T060000
END:STANDARD
END:VTIMEZONE
BEGIN:VEVENT
DTSTART;TZID=America/New_York:20260628T110000
DTEND;TZID=America/New_York:20260628T140000
DTSTAMP:20260424T124140
CREATED:20260423T143221Z
LAST-MODIFIED:20260423T154957Z
UID:10020226-1782644400-1782655200@www.hillcenterdc.org
SUMMARY:Master Chef: South Asian Street Food Featuring Tapori & Daru Chef\, Suresh Sundas\, 2026 James Beard Award & RAMMY Finalist
DESCRIPTION:from  June 22 to August 28  @  8:00 am - 5:30 pmRegister HereHill Center is thrilled to welcome acclaimed Chef Suresh Sundas whose class will feature several standout dishes from Tapori and Daru. \nChef Suresh Sundas’ (James Beard Foundation Finalist: Best Chef Mid-Atlantic 2026\, RAMMY Rising Culinary star of the year 2025 winner\, Rammy 2022 Best new restaurant\, Food & Wine Magazine 2024 Global Tastemaker) cooking journey began in his mom’s home kitchen in the rural Pathari village of the Morang district of his native Nepal. He grew up watching her prepare traditional dishes with much love and care called Raksi- which is ‘local Daru’ at home\, igniting his passion for cooking. \nAfter working in Nepal at Hotel Deurali in 2001\, he arrived in the US in 2007 on an immigrant visa\, and when he came to the United States he had no idea how to find a job and worked at 7-11\, living in an apartment shared with family and friends. He always used to cook meals for everyone\, and one day he made chicken curry and was told he needed to work in a restaurant- which began his quest for culinary ambition. \nOver time\, experimenting with different ingredients and techniques became a creative outlet\, and he realized how much joy food can bring to people. His philosophy about food and dining centers around creating dishes that are approachable and creates experiences that delights senses and respects both the ingredients and the environment. He believes in using fresh\, high-quality ingredients and prioritizes sustainability by sourcing locally whenever possible. His approach to menu creation is rooted in a balance of seasonal flavors and cultural diversity\, aiming to offer a range of options that cater various tastes and dietary preferences. \nEvery dish created is deeply connected to its origins—whether that’s through traditional techniques\, regional flavors\, or the cultural stories behind the ingredients. He feels that food with roots tells a story and offers a sense of authenticity and connection that gives the dining experience new heights. \nLearn more about Tapori and Daru here. \nComplimentary beer and wine will be served. \nPLEASE NOTE: Tickets are non-refundable. We apologize for any inconvenience.
URL:https://www.hillcenterdc.org/event/master-chef-featuring-tapori-daru-chef-suresh-sundas-2026-james-beard-award-rammy-finalist/
LOCATION:Hill Center DC\, 921 Pennsylvania Avenue\, SE\, Washington\, DC\, 20003\, United States
CATEGORIES:Cooking Classes & Tastings,In-person Events
ATTACH;FMTTYPE=image/jpeg:https://www.hillcenterdc.org/wp-content/uploads/2026/04/Suresh-Sundas.jpg
GEO:38.8829927;-76.9931301
X-APPLE-STRUCTURED-LOCATION;VALUE=URI;X-ADDRESS=Hill Center DC 921 Pennsylvania Avenue SE Washington DC 20003 United States;X-APPLE-RADIUS=500;X-TITLE=921 Pennsylvania Avenue\, SE:geo:-76.9931301,38.8829927
END:VEVENT
BEGIN:VEVENT
DTSTART;TZID=America/New_York:20260720T080000
DTEND;TZID=America/New_York:20260720T180000
DTSTAMP:20260424T124140
CREATED:20260326T164131Z
LAST-MODIFIED:20260326T195053Z
UID:10019603-1784534400-1784570400@www.hillcenterdc.org
SUMMARY:Chess Wizards Summer Camp
DESCRIPTION:from  June 22 to August 28  @  8:00 am - 5:30 pmRegister HereChess Wizards presents: Chess Wizards Summer Camp\, a strategy-focused program that teaches students how to think critically\, plan ahead\, and enjoy the game of chess. \nWhat can a game teach about strategy and decision-making? \nChess Wizards introduces players to chess fundamentals through engaging lessons\, puzzles\, and guided gameplay. Campers learn tactics\, strategy\, and sportsmanship while participating in games and friendly competitions. \nAs a national chess education organization\, Chess Wizards is dedicated to making chess fun and accessible while helping students develop problem-solving skills\, patience\, and confidence through structured instruction and play. \nParticipants will develop critical thinking skills and a lifelong appreciation for chess. (Camp runs Monday to Friday between July 20–August 14\, 2026. 8am to 6pm. No sessions between July 25 and August 9.) \nRegister today!
URL:https://www.hillcenterdc.org/event/chess-wizards-summer-camp/2026-07-20/
LOCATION:Hill Center DC\, 921 Pennsylvania Avenue\, SE\, Washington\, DC\, 20003\, United States
CATEGORIES:Children & Teens,In-person Events,School Break Camps
ATTACH;FMTTYPE=image/png:https://www.hillcenterdc.org/wp-content/uploads/2026/03/chess-wizards-logo.png
GEO:38.8829927;-76.9931301
X-APPLE-STRUCTURED-LOCATION;VALUE=URI;X-ADDRESS=Hill Center DC 921 Pennsylvania Avenue SE Washington DC 20003 United States;X-APPLE-RADIUS=500;X-TITLE=921 Pennsylvania Avenue\, SE:geo:-76.9931301,38.8829927
END:VEVENT
BEGIN:VEVENT
DTSTART;TZID=America/New_York:20260724T170000
DTEND;TZID=America/New_York:20260724T190000
DTSTAMP:20260424T124140
CREATED:20260401T173756Z
LAST-MODIFIED:20260401T173756Z
UID:10019690-1784912400-1784919600@www.hillcenterdc.org
SUMMARY:Groovy Nate In Concert
DESCRIPTION:from  June 22 to August 28  @  8:00 am - 5:30 pmRegister HereGroovy Nate’s music is unique and eclectic\, using Funk music as the foundation and reference. This is best represented in his two children’s music albums\, “Meet Groovy Nate”\, and “I’m Gonna Play My Bell”\, along with a single promoting seat belt safety aptly called\, “Put Your Seat Belt On” (he recently published a children’s book with the same title).  Additionally\, Groovy Nate has a song titled\, “Respect Everybody” that is featured in the 2022 Grammy nominated compilation album by One Tribe Collective\, “All One Tribe”. \nGroovy Nate® is a multi-dimensional performance and teaching artist who creates exciting educational shows and workshops\, using funky grooves played on his loop station\, electric guitar\, exotic musical instruments such as the mouth bow\, talking drums\, and kitchen utensils; laced with puppet skits\, comedy\, and creative play— a la Sesame Street meets Parliament/Funkadelic. \n \n 
URL:https://www.hillcenterdc.org/event/groovy-nate-in-concert/
LOCATION:Hill Center DC\, 921 Pennsylvania Avenue\, SE\, Washington\, DC\, 20003\, United States
CATEGORIES:Children & Teens,Concerts,In-person Events
ATTACH;FMTTYPE=image/jpeg:https://www.hillcenterdc.org/wp-content/uploads/2025/06/2019_7_GroovyNate-148-3.jpg
GEO:38.8829927;-76.9931301
X-APPLE-STRUCTURED-LOCATION;VALUE=URI;X-ADDRESS=Hill Center DC 921 Pennsylvania Avenue SE Washington DC 20003 United States;X-APPLE-RADIUS=500;X-TITLE=921 Pennsylvania Avenue\, SE:geo:-76.9931301,38.8829927
END:VEVENT
BEGIN:VEVENT
DTSTART;TZID=America/New_York:20260801T110000
DTEND;TZID=America/New_York:20260801T140000
DTSTAMP:20260424T124140
CREATED:20260415T143506Z
LAST-MODIFIED:20260415T143506Z
UID:10019869-1785582000-1785592800@www.hillcenterdc.org
SUMMARY:On the Noodle Road Featuring Jen Lin-Liu: Chinese Dinner Party II
DESCRIPTION:from  June 22 to August 28  @  8:00 am - 5:30 pmRegister HereAuthor and former Hill Center cooking instructor Jen Lin-Liu is returning to Hill Center this summer for one cooking class! \nIn this session\, she’ll bring together many of the elements she’s taught in previous classes\, including stir-frying and cutting methods\, and show you how to throw the perfect Chinese Dinner Party II. \nThe menu is: \n\nScallion Pancakes (vegetarian)\nMapo Tofu (vegetarian\, low gluten)\nCantonese Sticky Rice with Shiitake Mushrooms and Sausage (low gluten)\nStir-Fried Seasonal Vegetables (vegetarian\, low gluten)\nA Surprise Dessert\n\nJen Lin-Liu was born in Chicago and grew up in Southern California. She is the author of Serve the People: A Stir-Fried Journey Through China\, On the Noodle Road: From Beijing to Rome with Love and Pasta\, and the forthcoming Formidable Mrs. Chao\, the real-life story of China’s Julia Child. She founded the acclaimed Beijing cooking school Black Sesame Kitchen and has worked for Chinese chef & restaurateur Peter Chang. \nComplimentary beer and wine are included in the price of the course. Bring your appetite and an apron. \n*Please let us know if you are vegetarian\, celiac\, or gluten sensitive. \nPLEASE NOTE: Tickets are non-refundable. We apologize for any inconvenience.
URL:https://www.hillcenterdc.org/event/on-the-noodle-road-featuring-jen-lin-liu-chinese-dinner-party-ii/
LOCATION:Hill Center DC\, 921 Pennsylvania Avenue\, SE\, Washington\, DC\, 20003\, United States
CATEGORIES:Cooking Classes & Tastings,In-person Events
ATTACH;FMTTYPE=image/jpeg:https://www.hillcenterdc.org/wp-content/uploads/2024/02/Jen-Lin-Liu.jpeg
GEO:38.8829927;-76.9931301
X-APPLE-STRUCTURED-LOCATION;VALUE=URI;X-ADDRESS=Hill Center DC 921 Pennsylvania Avenue SE Washington DC 20003 United States;X-APPLE-RADIUS=500;X-TITLE=921 Pennsylvania Avenue\, SE:geo:-76.9931301,38.8829927
END:VEVENT
BEGIN:VEVENT
DTSTART;TZID=America/New_York:20260828T170000
DTEND;TZID=America/New_York:20260828T190000
DTSTAMP:20260424T124140
CREATED:20260224T141731Z
LAST-MODIFIED:20260330T162535Z
UID:10019297-1787936400-1787943600@www.hillcenterdc.org
SUMMARY:King Bullfrog Hoppy Hour 2026
DESCRIPTION:from  June 22 to August 28  @  8:00 am - 5:30 pmRegister HereBring the family out to enjoy a Friday evening filled with live music perfect for all ages! This concert will be outdoors\, perfect for little ones to run\, dance\, laugh\, and play to the beat of their favorite songs! KING BULLFROG is a kindie rock trio that plays high-energy tunes that are developmentally appropriate for kids and grownups actually like. With their musical stories\, amusing wordplay\, and close attention to all of their audiences\, KING BULLFROG is the hottest sensation in family music in the DC area. Or at least the most amphibian….\n\nDebut album “Lions & Lilypads” out now\, produced by Grammy-winning Dean Jones Buy the CD | Stream on Spotify | Apple Music | YouTube \nBeer\, wine\, and cheese & pizza will be for sale! See you there!\n \n“King Bullfrog is an amazing duo who continually entertain young audiences with a great mix of original and classic songs with their own twist. They keep 200+ kids of all ages\, together with their parents\, grandparents\, and caregivers\, singing and dancing the whole way through their ribbiting set.” — BOOGIE BABES CONCERT SERIES\, WASHINGTON\, DC\n \nClick HERE to learn more about this popular music duo and their newest album!\n \nChildren under the age of 2 do not require a ticket.\n \nHill Center is dedicated to making our programming equitable and accessible to all. If cost\, accessibility\, or other obstacles are a barrier to attending a program\, please contact programs@hillcenterdc.org and we will be happy to work out a solution. \n \n 
URL:https://www.hillcenterdc.org/event/king-bullfrog-hoppy-hour-2026-3/
LOCATION:Hill Center DC\, 921 Pennsylvania Avenue\, SE\, Washington\, DC\, 20003\, United States
CATEGORIES:Children & Teens,Concerts,In-person Events
ATTACH;FMTTYPE=image/jpeg:https://www.hillcenterdc.org/wp-content/uploads/2024/10/King-Bullfrog-trio-photo.jpeg
ORGANIZER;CN="King Bullfrog":MAILTO:kingbullfrogmusic@gmail.com
GEO:38.8829927;-76.9931301
X-APPLE-STRUCTURED-LOCATION;VALUE=URI;X-ADDRESS=Hill Center DC 921 Pennsylvania Avenue SE Washington DC 20003 United States;X-APPLE-RADIUS=500;X-TITLE=921 Pennsylvania Avenue\, SE:geo:-76.9931301,38.8829927
END:VEVENT
BEGIN:VEVENT
DTSTART;TZID=America/New_York:20260925T170000
DTEND;TZID=America/New_York:20260925T190000
DTSTAMP:20260424T124140
CREATED:20260224T142021Z
LAST-MODIFIED:20260330T162532Z
UID:10019298-1790355600-1790362800@www.hillcenterdc.org
SUMMARY:King Bullfrog Hoppy Hour 2026
DESCRIPTION:from  June 22 to August 28  @  8:00 am - 5:30 pmRegister HereBring the family out to enjoy a Friday evening filled with live music perfect for all ages! This concert will be outdoors\, perfect for little ones to run\, dance\, laugh\, and play to the beat of their favorite songs! KING BULLFROG is a kindie rock trio that plays high-energy tunes that are developmentally appropriate for kids and grownups actually like. With their musical stories\, amusing wordplay\, and close attention to all of their audiences\, KING BULLFROG is the hottest sensation in family music in the DC area. Or at least the most amphibian….\n\nDebut album “Lions & Lilypads” out now\, produced by Grammy-winning Dean Jones Buy the CD | Stream on Spotify | Apple Music | YouTube \nBeer\, wine\, and cheese & pizza will be for sale! See you there!\n \n“King Bullfrog is an amazing duo who continually entertain young audiences with a great mix of original and classic songs with their own twist. They keep 200+ kids of all ages\, together with their parents\, grandparents\, and caregivers\, singing and dancing the whole way through their ribbiting set.” — BOOGIE BABES CONCERT SERIES\, WASHINGTON\, DC\n \nClick HERE to learn more about this popular music duo and their newest album!\n \nChildren under the age of 2 do not require a ticket.\n \nHill Center is dedicated to making our programming equitable and accessible to all. If cost\, accessibility\, or other obstacles are a barrier to attending a program\, please contact programs@hillcenterdc.org and we will be happy to work out a solution. \n \n 
URL:https://www.hillcenterdc.org/event/king-bullfrog-hoppy-hour-2026-4/
LOCATION:Hill Center DC\, 921 Pennsylvania Avenue\, SE\, Washington\, DC\, 20003\, United States
CATEGORIES:Children & Teens,Concerts,In-person Events
ATTACH;FMTTYPE=image/jpeg:https://www.hillcenterdc.org/wp-content/uploads/2024/10/King-Bullfrog-trio-photo.jpeg
ORGANIZER;CN="King Bullfrog":MAILTO:kingbullfrogmusic@gmail.com
GEO:38.8829927;-76.9931301
X-APPLE-STRUCTURED-LOCATION;VALUE=URI;X-ADDRESS=Hill Center DC 921 Pennsylvania Avenue SE Washington DC 20003 United States;X-APPLE-RADIUS=500;X-TITLE=921 Pennsylvania Avenue\, SE:geo:-76.9931301,38.8829927
END:VEVENT
BEGIN:VEVENT
DTSTART;TZID=America/New_York:20261023T170000
DTEND;TZID=America/New_York:20261023T190000
DTSTAMP:20260424T124140
CREATED:20260224T142302Z
LAST-MODIFIED:20260330T162459Z
UID:10019299-1792774800-1792782000@www.hillcenterdc.org
SUMMARY:King Bullfrog Hoppy Hour 2026
DESCRIPTION:from  June 22 to August 28  @  8:00 am - 5:30 pmRegister HereBring the family out to enjoy a Friday evening filled with live music perfect for all ages! This concert will be outdoors\, perfect for little ones to run\, dance\, laugh\, and play to the beat of their favorite songs! KING BULLFROG is a kindie rock trio that plays high-energy tunes that are developmentally appropriate for kids and grownups actually like. With their musical stories\, amusing wordplay\, and close attention to all of their audiences\, KING BULLFROG is the hottest sensation in family music in the DC area. Or at least the most amphibian….\n\nDebut album “Lions & Lilypads” out now\, produced by Grammy-winning Dean Jones Buy the CD | Stream on Spotify | Apple Music | YouTube \nBeer\, wine\, and cheese & pizza will be for sale! See you there!\n \n“King Bullfrog is an amazing duo who continually entertain young audiences with a great mix of original and classic songs with their own twist. They keep 200+ kids of all ages\, together with their parents\, grandparents\, and caregivers\, singing and dancing the whole way through their ribbiting set.” — BOOGIE BABES CONCERT SERIES\, WASHINGTON\, DC\n \nClick HERE to learn more about this popular music duo and their newest album!\n \nChildren under the age of 2 do not require a ticket.\n \nHill Center is dedicated to making our programming equitable and accessible to all. If cost\, accessibility\, or other obstacles are a barrier to attending a program\, please contact programs@hillcenterdc.org and we will be happy to work out a solution. \n \n 
URL:https://www.hillcenterdc.org/event/king-bullfrog-hoppy-hour-2026-5/
LOCATION:Hill Center DC\, 921 Pennsylvania Avenue\, SE\, Washington\, DC\, 20003\, United States
CATEGORIES:Children & Teens,Concerts,In-person Events
ATTACH;FMTTYPE=image/jpeg:https://www.hillcenterdc.org/wp-content/uploads/2024/10/King-Bullfrog-trio-photo.jpeg
ORGANIZER;CN="King Bullfrog":MAILTO:kingbullfrogmusic@gmail.com
GEO:38.8829927;-76.9931301
X-APPLE-STRUCTURED-LOCATION;VALUE=URI;X-ADDRESS=Hill Center DC 921 Pennsylvania Avenue SE Washington DC 20003 United States;X-APPLE-RADIUS=500;X-TITLE=921 Pennsylvania Avenue\, SE:geo:-76.9931301,38.8829927
END:VEVENT
BEGIN:VEVENT
DTSTART;TZID=America/New_York:20261112T180000
DTEND;TZID=America/New_York:20261112T200000
DTSTAMP:20260424T124140
CREATED:20260421T200114Z
LAST-MODIFIED:20260421T204422Z
UID:10020224-1794506400-1794513600@www.hillcenterdc.org
SUMMARY:Pottery Jam! 2026
DESCRIPTION:from  June 22 to August 28  @  8:00 am - 5:30 pmRegister Here[vc_row][vc_column width=”3/4″][vc_column_text css=””]\nEvent details:\nWhen: Thursday November 12th 6pm-8pm\nWhere: Eastern market North Hall\, 225 7th st SE\nWhat: Pottery Jam \nDescription\nThe Pottery Jam is back! Co-hosted by Eastern Market Pottery and District Clay Center\, the Pottery Jam is a lively event showcasing the clay artistry of guest ceramists from Pottery on the Hill alongside music\, food\, and drink. This year we celebrate the strong clay community in the DMV featuring many community studios! \nFeatures\nThe Pottery Jam includes:\n– Live demonstrations from regional and national artists\n– Find and learn about community studios in the area\n– Enter to win prizes like pottery\, classes\, workshops\, & more\n– Enjoy food\, beverages\, and live music \nRaffle\nRegistration enters you to win this unique piece by Dan Finnegan (presence required to redeem) \nPottery on the Hill 2026\n[/vc_column_text]Join us for Pottery on the Hill 2026 November 13-16 [/vc_column][vc_column width=”1/4″]Pottery Jam Raffle Prize[/vc_column][/vc_row]
URL:https://www.hillcenterdc.org/event/pottery-jam-2026/
LOCATION:Eastern Market\, 225 7th Street\, SE\, Washington\, 20003\, United States
CATEGORIES:Galleries,In-person Events,Studio Arts & Crafts
ATTACH;FMTTYPE=image/jpeg:https://www.hillcenterdc.org/wp-content/uploads/2025/09/pottery-jam-logo.jpg
ORGANIZER;CN="Eastern Market Pottery":MAILTO:easternmarketpottery@gmail.com
GEO:38.886588;-76.9964451
X-APPLE-STRUCTURED-LOCATION;VALUE=URI;X-ADDRESS=Eastern Market 225 7th Street SE Washington 20003 United States;X-APPLE-RADIUS=500;X-TITLE=225 7th Street\, SE:geo:-76.9964451,38.886588
END:VEVENT
BEGIN:VEVENT
DTSTART;TZID=America/New_York:20261113T183000
DTEND;TZID=America/New_York:20261115T160000
DTSTAMP:20260424T124140
CREATED:20260421T195429Z
LAST-MODIFIED:20260422T180253Z
UID:10020223-1794594600-1794758400@www.hillcenterdc.org
SUMMARY:Pottery on the Hill 2026: Calendar + Tickets
DESCRIPTION:from  June 22 to August 28  @  8:00 am - 5:30 pmRegister Here[vc_row][vc_column]FacebookInstagram[vc_column_text css=””]\nPottery on the Hill SHOW AND SALE – NOVEMBER 13-15\, 2025\nPottery on the Hill returns again for another great year of ceramics! \nPottery on the Hill is a weekend celebrating functional pottery (that which can be regularly used\, such as dinnerware\, drink ware\, vases\, platters\, and more) featuring top ceramic artists from across the country. Avid ceramics fans will love the chance to talk with the potters in a casual\, fun environment and continue to grow their collections. For those who might just love the pottery\, this is a great opportunity to get a jumpstart on shopping for the holidays\, giving the special people in your life a gift as unique and one-of-a-kind as they are. \nPottery on the Hill is curated by potter Dan Finnegan. \nClick HERE to be redirected to the list of all potters for this year. \nFRIDAY\, 11/13: TICKETED PREVIEW RECEPTION\n6:30pm-8:30pm\nTickets: $45/advance\, $50/day of\nPURCHASE TICKETS BELOW\nBe among the first to experience our annual Pottery on the Hill show and sale\, gaining full access to see and purchase the works of our artists! Hors d’oeuvres\, wine\, and beer are included in the ticket price. First 100 people at the door receive a free handmade cup by Potter Dan Finnegan! \nSATURDAY 11/14 + SUNDAY 11/15: FREE SHOW & SALE\nSaturday\, November 14 10 am-5 pm | RESERVE TICKETS BELOW\nSunday\, November 15\, 11 am-4 pm | RESERVE TICKETS BELOW\nRSVP recommended\, but not required.\nThis is your chance to see some of the best ceramic artists in America in one place! Pottery on the Hill features functional pottery\, all meant to be used in your everyday life. Whether you’re looking for a unique holiday or wedding gift\, hope to decorate your home with one-of-a-kind items like platters\, vases\, serving bowls or dinnerware\, or even just want to upgrade your coffee cup or beer stein\, you’ll find an impressive collection of handmade pots at Pottery on the Hill. \nTHURSDAY 11/12: POTTERY JAM!\nJoin us for Pottery Jam! Thursday 11/12 at Eastern Market North Hall \nRAKU FIRING\nOn Saturday\, District Clay comes to Hill Center! Join us to decorate a masterpiece\, go visit the show and sale\, and return to pick up a gem after the firing. A fun event for kids and adults alike! Tentative time: 12-3 pm.\n\nPOTTER DEMONSTRATIONS\nOn Sunday\, November 15\, join us for demonstrations of and conversations about the work of some of the potters in our show. \nStaying in town for the weekend? Check out our recommended hotels nearby! \nMedia Sponsors: \n \n \n  \n  \n[/vc_column_text][/vc_column][/vc_row]
URL:https://www.hillcenterdc.org/event/pottery-on-the-hill-2026-calendar-tickets/
LOCATION:Hill Center DC\, 921 Pennsylvania Avenue\, SE\, Washington\, DC\, 20003\, United States
CATEGORIES:Galleries,In-person Events,Studio Arts & Crafts
ATTACH;FMTTYPE=image/jpeg:https://www.hillcenterdc.org/wp-content/uploads/2025/07/PotteryOnTheHill-Logo.jpg
GEO:38.8829927;-76.9931301
X-APPLE-STRUCTURED-LOCATION;VALUE=URI;X-ADDRESS=Hill Center DC 921 Pennsylvania Avenue SE Washington DC 20003 United States;X-APPLE-RADIUS=500;X-TITLE=921 Pennsylvania Avenue\, SE:geo:-76.9931301,38.8829927
END:VEVENT
BEGIN:VEVENT
DTSTART;TZID=America/New_York:20261209T190000
DTEND;TZID=America/New_York:20261209T210000
DTSTAMP:20260424T124140
CREATED:20260417T144542Z
LAST-MODIFIED:20260417T144719Z
UID:10019902-1796842800-1796850000@www.hillcenterdc.org
SUMMARY:Global Sounds on the Hill Featuring Renowned Italian Singer Maria Mazzotta
DESCRIPTION:from  June 22 to August 28  @  8:00 am - 5:30 pmRegister Here“Maria Mazzotta has a remarkably memorable voice\, and a taste for musical adventure.” \n– RootsWorld \nCurated and hosted by iconic DC impresarios and musician Jim Thomson \nMaria Mazzotta’s unique versatility is what makes her one of the most important voices of the music scene in the Apulia region of Italy and\, more generally\, of world music towards which she has an extremely respectful approach\, backed by meticulous research into vocal characteristics of the area which highly differentiate the various cultures found within it. She moves in a natural\, seamless way from the sounds of Southern Italy to the inflections of balkan music\, and captivates the audience with her sincere interpretation as she carries them along while immersing them into the cultures of the songs interpreted. \nShe started studying the piano very young (for 7 years\, then the harp (for 3 years) at the “Tito Schipa” Conservatory in Lecce\, and in 1998 had her first encounter with the songs of the Salento tradition through listening to the original sources and by actively participating in the re-visitation and revival of these songs. \nFrom 2000 to 2015\, she was part of Canzoniere Grecanico Salentino; a band she  recorded 6 albums with\, participating in some of the most important international world music festivals. \nIn 2020 she released Amoreamaro by Agualoca Records\, her debut solist album. With this album Maria Mazzotta meeting great acclaim by the audience and by the critics. “Amoreamaro” is nr.9 of “Best Album of 2019/20 season” by Transglobal World Music Chart\, finalist of prestigious Targa Tenco. \nMaria Mazzotta can boast numerous collaborations with national and international artists\, including: Bobby McFerrin\, Ibrahim Maalouf\, Rita Marcotulli\, Ballake Sissoko\, Piers Faccini\, Justin Adams e Juldeh Camara\, Mannarino\, Orchestra di Piazza Vittorio\, Hysni (Niko) Zela e Fanfara Tirana\, Eva Quartet\, Klapa Otok\, Bojken Lako\, Raiz\, Roy Paci\, Raffaele Casarano.\, Bijan Chemirani\, Mario Arcari\, Rocio Molina. \n \nAbout Jim Thomson: Jim Thomson is an independent DIY music producer based in Washington DC who specializes in booking\, live music production\, artist management\, DJ events\, and record releases. In Washington DC he operates an ongoing live music series called Secret Planet DC that partners with various venues\, foundations\, and musicians all across the city to produce unique\, intimate\, and meaningful performances. He also owns and operates the Washington\, DC-based boutique record label Electric Cowbell Records as well as holding down and curating all vinyl DJ residencies at The Green Zone\, Cana\, La Shukran\, Daikaya\, Le Mont Royal\, Eaton Hotel\, the DC Record Fair\, and other bars and restaurants in the city. \nJim is also a lifelong musician and promoter\, playing drums as a founding member of GWAR\, The Alter-Natives (SST Records)\, Bio Ritmo\, CSC Funk Band\, Time Is Fire\, and he currently plays drums and percussion with Motherf*ckers JMB &amp; Co with Geologist from Animal Collective. One of the first concerts he co-promoted was a Bad Brains show in Richmond\, Virginia in 1987 followed by years of concerts including surf guitar legend Dick Dale\, Knitting Factory tours\, Marc Ribot\, Charles Gayle\, Negativland\, Medeski\, Martin\, and Wood\, and many others.
URL:https://www.hillcenterdc.org/event/global-sounds-on-the-hill-featuring-renowned-italian-singer-maria-mazzotta/
LOCATION:Hill Center DC\, 921 Pennsylvania Avenue\, SE\, Washington\, DC\, 20003\, United States
CATEGORIES:Concerts,In-person Events
ATTACH;FMTTYPE=image/jpeg:https://www.hillcenterdc.org/wp-content/uploads/2026/04/Maria-Mazzota.jpeg
GEO:38.8829927;-76.9931301
X-APPLE-STRUCTURED-LOCATION;VALUE=URI;X-ADDRESS=Hill Center DC 921 Pennsylvania Avenue SE Washington DC 20003 United States;X-APPLE-RADIUS=500;X-TITLE=921 Pennsylvania Avenue\, SE:geo:-76.9931301,38.8829927
END:VEVENT
END:VCALENDAR