BEGIN:VCALENDAR
VERSION:2.0
PRODID:-//Hill Center DC - ECPv6.15.20//NONSGML v1.0//EN
CALSCALE:GREGORIAN
METHOD:PUBLISH
X-WR-CALNAME:Hill Center DC
X-ORIGINAL-URL:https://www.hillcenterdc.org
X-WR-CALDESC:Events for Hill Center DC
REFRESH-INTERVAL;VALUE=DURATION:PT1H
X-Robots-Tag:noindex
X-PUBLISHED-TTL:PT1H
BEGIN:VTIMEZONE
TZID:America/New_York
BEGIN:DAYLIGHT
TZOFFSETFROM:-0500
TZOFFSETTO:-0400
TZNAME:EDT
DTSTART:20250309T070000
END:DAYLIGHT
BEGIN:STANDARD
TZOFFSETFROM:-0400
TZOFFSETTO:-0500
TZNAME:EST
DTSTART:20251102T060000
END:STANDARD
BEGIN:DAYLIGHT
TZOFFSETFROM:-0500
TZOFFSETTO:-0400
TZNAME:EDT
DTSTART:20260308T070000
END:DAYLIGHT
BEGIN:STANDARD
TZOFFSETFROM:-0400
TZOFFSETTO:-0500
TZNAME:EST
DTSTART:20261101T060000
END:STANDARD
BEGIN:DAYLIGHT
TZOFFSETFROM:-0500
TZOFFSETTO:-0400
TZNAME:EDT
DTSTART:20270314T070000
END:DAYLIGHT
BEGIN:STANDARD
TZOFFSETFROM:-0400
TZOFFSETTO:-0500
TZNAME:EST
DTSTART:20271107T060000
END:STANDARD
END:VTIMEZONE
BEGIN:VEVENT
DTSTART;TZID=America/New_York:20260504T183000
DTEND;TZID=America/New_York:20260504T200000
DTSTAMP:20260420T102827
CREATED:20251126T164923Z
LAST-MODIFIED:20251126T180102Z
UID:10018054-1777919400-1777924800@www.hillcenterdc.org
SUMMARY:Introduction to Block Printmaking Course with Christine Vineyard
DESCRIPTION:from  May 4 to May 18  @  6:30 pm - 8:00 pmRegister HereLearn a new technique and create your very own print in this workshop with Christine Vineyard! Students will walk away with basic knowledge and instructions for how to create a linoleum block print from start to finish. By the end of class\, students will have a carved block and at least one final print to take home. Students should bring a few images to use as inspiration or may sketch their own designs. \nThis is an adult art class and will take place May 4th\, 11th and 18th. \nThis month-long introduction to block printing class is designed for beginners to those who have some prior knowledge and are looking to expand upon their techniques. We will start with the basics of block printing and work up to a multi color print throughout the course of the month. No materials are needed as everything you need is provided\, however if you would like to use a specific color of ink it is suggested that you supply your own (Speedball water resistant block printing ink is recommended). The instructor will provide the following inks: black\, red\, yellow\, and blue. \nAll materials will be provided: \n\nLinoleum block\nCarving tools\nBrayers\nInk\n\n  \n“It was very easy and satisfying to see a good final result come together in just a few hours. I’m very please with what I was able to create!”  -Lauren \n \nChristine Vineyard is a local DC artist and art teacher\, working with all mediums and a concentration in photography\, drawing and painting. She has her BFA in Art Education and a Masters of Art Education with a focus on curriculum writing. Christine is originally from Atlanta\, GA where she taught at an international charter school before relocating to DC to continue her teaching career. Christine has worked with all ages from preschool to adults and is excited about sharing her knowledge and love of art with others. \nA minimum of 4 students is required for the class to occur. Students will be notified if the minimum is not met. \nHill Center is dedicated to making our programming equitable and accessible to all. If cost\, accessibility\, or other obstacles are a barrier to attending a program\, please contact programs@hillcenterdc.org and we will be happy to work out a solution. \nIf you need assistance registering\, please check out these step-by-step instructions\, video tutorial or call (202) 549-4172 for assistance.
URL:https://www.hillcenterdc.org/event/introduction-to-block-printmaking-course-with-christine-vineyard-2/2026-05-04/
LOCATION:Hill Center DC\, 921 Pennsylvania Avenue\, SE\, Washington\, DC\, 20003\, United States
CATEGORIES:In-person Events,Studio Arts & Crafts
ATTACH;FMTTYPE=image/png:https://www.hillcenterdc.org/wp-content/uploads/2025/11/Block-Printing.png
GEO:38.8829927;-76.9931301
X-APPLE-STRUCTURED-LOCATION;VALUE=URI;X-ADDRESS=Hill Center DC 921 Pennsylvania Avenue SE Washington DC 20003 United States;X-APPLE-RADIUS=500;X-TITLE=921 Pennsylvania Avenue\, SE:geo:-76.9931301,38.8829927
END:VEVENT
BEGIN:VEVENT
DTSTART;TZID=America/New_York:20260511T183000
DTEND;TZID=America/New_York:20260511T200000
DTSTAMP:20260420T102827
CREATED:20251126T164923Z
LAST-MODIFIED:20251126T180102Z
UID:10018055-1778524200-1778529600@www.hillcenterdc.org
SUMMARY:Introduction to Block Printmaking Course with Christine Vineyard
DESCRIPTION:from  May 4 to May 18  @  6:30 pm - 8:00 pmRegister HereLearn a new technique and create your very own print in this workshop with Christine Vineyard! Students will walk away with basic knowledge and instructions for how to create a linoleum block print from start to finish. By the end of class\, students will have a carved block and at least one final print to take home. Students should bring a few images to use as inspiration or may sketch their own designs. \nThis is an adult art class and will take place May 4th\, 11th and 18th. \nThis month-long introduction to block printing class is designed for beginners to those who have some prior knowledge and are looking to expand upon their techniques. We will start with the basics of block printing and work up to a multi color print throughout the course of the month. No materials are needed as everything you need is provided\, however if you would like to use a specific color of ink it is suggested that you supply your own (Speedball water resistant block printing ink is recommended). The instructor will provide the following inks: black\, red\, yellow\, and blue. \nAll materials will be provided: \n\nLinoleum block\nCarving tools\nBrayers\nInk\n\n  \n“It was very easy and satisfying to see a good final result come together in just a few hours. I’m very please with what I was able to create!”  -Lauren \n \nChristine Vineyard is a local DC artist and art teacher\, working with all mediums and a concentration in photography\, drawing and painting. She has her BFA in Art Education and a Masters of Art Education with a focus on curriculum writing. Christine is originally from Atlanta\, GA where she taught at an international charter school before relocating to DC to continue her teaching career. Christine has worked with all ages from preschool to adults and is excited about sharing her knowledge and love of art with others. \nA minimum of 4 students is required for the class to occur. Students will be notified if the minimum is not met. \nHill Center is dedicated to making our programming equitable and accessible to all. If cost\, accessibility\, or other obstacles are a barrier to attending a program\, please contact programs@hillcenterdc.org and we will be happy to work out a solution. \nIf you need assistance registering\, please check out these step-by-step instructions\, video tutorial or call (202) 549-4172 for assistance.
URL:https://www.hillcenterdc.org/event/introduction-to-block-printmaking-course-with-christine-vineyard-2/2026-05-11/
LOCATION:Hill Center DC\, 921 Pennsylvania Avenue\, SE\, Washington\, DC\, 20003\, United States
CATEGORIES:In-person Events,Studio Arts & Crafts
ATTACH;FMTTYPE=image/png:https://www.hillcenterdc.org/wp-content/uploads/2025/11/Block-Printing.png
GEO:38.8829927;-76.9931301
X-APPLE-STRUCTURED-LOCATION;VALUE=URI;X-ADDRESS=Hill Center DC 921 Pennsylvania Avenue SE Washington DC 20003 United States;X-APPLE-RADIUS=500;X-TITLE=921 Pennsylvania Avenue\, SE:geo:-76.9931301,38.8829927
END:VEVENT
BEGIN:VEVENT
DTSTART;TZID=America/New_York:20260518T183000
DTEND;TZID=America/New_York:20260518T200000
DTSTAMP:20260420T102827
CREATED:20251126T164923Z
LAST-MODIFIED:20251126T180102Z
UID:10018056-1779129000-1779134400@www.hillcenterdc.org
SUMMARY:Introduction to Block Printmaking Course with Christine Vineyard
DESCRIPTION:from  May 4 to May 18  @  6:30 pm - 8:00 pmRegister HereLearn a new technique and create your very own print in this workshop with Christine Vineyard! Students will walk away with basic knowledge and instructions for how to create a linoleum block print from start to finish. By the end of class\, students will have a carved block and at least one final print to take home. Students should bring a few images to use as inspiration or may sketch their own designs. \nThis is an adult art class and will take place May 4th\, 11th and 18th. \nThis month-long introduction to block printing class is designed for beginners to those who have some prior knowledge and are looking to expand upon their techniques. We will start with the basics of block printing and work up to a multi color print throughout the course of the month. No materials are needed as everything you need is provided\, however if you would like to use a specific color of ink it is suggested that you supply your own (Speedball water resistant block printing ink is recommended). The instructor will provide the following inks: black\, red\, yellow\, and blue. \nAll materials will be provided: \n\nLinoleum block\nCarving tools\nBrayers\nInk\n\n  \n“It was very easy and satisfying to see a good final result come together in just a few hours. I’m very please with what I was able to create!”  -Lauren \n \nChristine Vineyard is a local DC artist and art teacher\, working with all mediums and a concentration in photography\, drawing and painting. She has her BFA in Art Education and a Masters of Art Education with a focus on curriculum writing. Christine is originally from Atlanta\, GA where she taught at an international charter school before relocating to DC to continue her teaching career. Christine has worked with all ages from preschool to adults and is excited about sharing her knowledge and love of art with others. \nA minimum of 4 students is required for the class to occur. Students will be notified if the minimum is not met. \nHill Center is dedicated to making our programming equitable and accessible to all. If cost\, accessibility\, or other obstacles are a barrier to attending a program\, please contact programs@hillcenterdc.org and we will be happy to work out a solution. \nIf you need assistance registering\, please check out these step-by-step instructions\, video tutorial or call (202) 549-4172 for assistance.
URL:https://www.hillcenterdc.org/event/introduction-to-block-printmaking-course-with-christine-vineyard-2/2026-05-18/
LOCATION:Hill Center DC\, 921 Pennsylvania Avenue\, SE\, Washington\, DC\, 20003\, United States
CATEGORIES:In-person Events,Studio Arts & Crafts
ATTACH;FMTTYPE=image/png:https://www.hillcenterdc.org/wp-content/uploads/2025/11/Block-Printing.png
GEO:38.8829927;-76.9931301
X-APPLE-STRUCTURED-LOCATION;VALUE=URI;X-ADDRESS=Hill Center DC 921 Pennsylvania Avenue SE Washington DC 20003 United States;X-APPLE-RADIUS=500;X-TITLE=921 Pennsylvania Avenue\, SE:geo:-76.9931301,38.8829927
END:VEVENT
END:VCALENDAR