BEGIN:VCALENDAR
VERSION:2.0
PRODID:-//Hill Center DC - ECPv6.15.20//NONSGML v1.0//EN
CALSCALE:GREGORIAN
METHOD:PUBLISH
X-ORIGINAL-URL:https://www.hillcenterdc.org
X-WR-CALDESC:Events for Hill Center DC
REFRESH-INTERVAL;VALUE=DURATION:PT1H
X-Robots-Tag:noindex
X-PUBLISHED-TTL:PT1H
BEGIN:VTIMEZONE
TZID:America/New_York
BEGIN:DAYLIGHT
TZOFFSETFROM:-0500
TZOFFSETTO:-0400
TZNAME:EDT
DTSTART:20240310T070000
END:DAYLIGHT
BEGIN:STANDARD
TZOFFSETFROM:-0400
TZOFFSETTO:-0500
TZNAME:EST
DTSTART:20241103T060000
END:STANDARD
BEGIN:DAYLIGHT
TZOFFSETFROM:-0500
TZOFFSETTO:-0400
TZNAME:EDT
DTSTART:20250309T070000
END:DAYLIGHT
BEGIN:STANDARD
TZOFFSETFROM:-0400
TZOFFSETTO:-0500
TZNAME:EST
DTSTART:20251102T060000
END:STANDARD
BEGIN:DAYLIGHT
TZOFFSETFROM:-0500
TZOFFSETTO:-0400
TZNAME:EDT
DTSTART:20260308T070000
END:DAYLIGHT
BEGIN:STANDARD
TZOFFSETFROM:-0400
TZOFFSETTO:-0500
TZNAME:EST
DTSTART:20261101T060000
END:STANDARD
END:VTIMEZONE
BEGIN:VEVENT
DTSTART;TZID=America/New_York:20250930T190000
DTEND;TZID=America/New_York:20250930T210000
DTSTAMP:20260421T041607
CREATED:20250512T200754Z
LAST-MODIFIED:20250820T165713Z
UID:10014894-1759258800-1759266000@www.hillcenterdc.org
SUMMARY:Our City. Our Music. Our Writers.
DESCRIPTION:On September 30th at 7.00 pm\, two outstanding Smithsonian Museum curators will present and discuss their recent books and the key insights derived from archival research\, field work\, and material culture studies that increase our understanding of this quintessential American music and its global influence. \nDwandalyn R. Reece will present Musical Crossroads: Stories Behind the Objects of African American Music\, highlighting the curatorial and archival research on the vast array of musical styles and performance traditions that developed the comprehensive collections and exhibits of The Smithsonian National Museum of African American History. John Troutman will present his work on Biography of a Phantom: A Robert Johnson Blues Odyssey: editing the unpublished manuscript of folklorist Robert Mack McCormick\, co-curating an exhibit on McCormickʻs legendary archive; and co-producing a Grammy-nominated\, Smithsonian Folkways box set from McCormick’s field recordings. \nDwandalyn R. Reece\, Ph.D.\, is Associate Director for the Humanities at the Smithsonian’s National Museum of African American History and Culture and served as the museum’s Curator of Music and Performing Arts from 2009 – 2021. She received the Smithsonian Secretary’s Research Award for curating NMAAHC’s permanent exhibition Musical Crossroads in 2017 and for her publication Musical Crossroads: Stories Behind the Objects of African American Music in 2025. She collaborates on many Smithsonian programs\, including The Smithsonian Anthology of Hip-Hop and Rap and the Smithsonian Year of Music\, and chairs the pan-institutional group\, Smithsonian Music. Reece is a board member of the American Musicological Society\, the Society for American Music\, and the Society for Ethnomusicology. \nJohn Troutman\, Ph.D.\, Head of the Division of Culture the Arts at the Smithsonian’s National Museum of American History\, is its award- winning Curator of Music and Musical Instruments\, project director and lead curator of its permanent exhibition “Entertainment Nation\,” and a prolific author on U.S. popular and vernacular music in the late 19th and 20th centuries.  His work on the edited volume\, Biography of a Phantom: A Robert Johnson Blues Odyssey\, recently won a Smithsonian Secretary’s Research Award.
URL:https://www.hillcenterdc.org/event/our-city-our-music-our-writers-2/
LOCATION:Hill Center DC\, 921 Pennsylvania Avenue\, SE\, Washington\, DC\, 20003\, United States
CATEGORIES:In-person Events,Lectures & Conversations
ATTACH;FMTTYPE=image/png:https://www.hillcenterdc.org/wp-content/uploads/2025/05/Our-City.-Our-Music.-Our-Writers-2.png
GEO:38.8829927;-76.9931301
X-APPLE-STRUCTURED-LOCATION;VALUE=URI;X-ADDRESS=Hill Center DC 921 Pennsylvania Avenue SE Washington DC 20003 United States;X-APPLE-RADIUS=500;X-TITLE=921 Pennsylvania Avenue\, SE:geo:-76.9931301,38.8829927
END:VEVENT
END:VCALENDAR