BEGIN:VCALENDAR
VERSION:2.0
PRODID:-//Hill Center DC - ECPv6.15.20//NONSGML v1.0//EN
CALSCALE:GREGORIAN
METHOD:PUBLISH
X-WR-CALNAME:Hill Center DC
X-ORIGINAL-URL:https://www.hillcenterdc.org
X-WR-CALDESC:Events for Hill Center DC
REFRESH-INTERVAL;VALUE=DURATION:PT1H
X-Robots-Tag:noindex
X-PUBLISHED-TTL:PT1H
BEGIN:VTIMEZONE
TZID:America/New_York
BEGIN:DAYLIGHT
TZOFFSETFROM:-0500
TZOFFSETTO:-0400
TZNAME:EDT
DTSTART:20250309T070000
END:DAYLIGHT
BEGIN:STANDARD
TZOFFSETFROM:-0400
TZOFFSETTO:-0500
TZNAME:EST
DTSTART:20251102T060000
END:STANDARD
BEGIN:DAYLIGHT
TZOFFSETFROM:-0500
TZOFFSETTO:-0400
TZNAME:EDT
DTSTART:20260308T070000
END:DAYLIGHT
BEGIN:STANDARD
TZOFFSETFROM:-0400
TZOFFSETTO:-0500
TZNAME:EST
DTSTART:20261101T060000
END:STANDARD
BEGIN:DAYLIGHT
TZOFFSETFROM:-0500
TZOFFSETTO:-0400
TZNAME:EDT
DTSTART:20270314T070000
END:DAYLIGHT
BEGIN:STANDARD
TZOFFSETFROM:-0400
TZOFFSETTO:-0500
TZNAME:EST
DTSTART:20271107T060000
END:STANDARD
END:VTIMEZONE
BEGIN:VEVENT
DTSTART;TZID=America/New_York:20260421T174000
DTEND;TZID=America/New_York:20260421T182500
DTSTAMP:20260420T101524
CREATED:20250715T152746Z
LAST-MODIFIED:20260106T133444Z
UID:10019137-1776793200-1776795900@www.hillcenterdc.org
SUMMARY:Tippi Toes: Ballet Tap Jazz Combo
DESCRIPTION:Ballet\, Tap & Jazz combo classes are offered for children 3-6 years old. This high energy dance class is designed to keep boys and girls engaged in continual motion while they learn the basic elements of dance including positions and terminology. We incorporate an even mix of the three types of dance over the 45 minute class time in a way that is fun and healthy for active children including exercising their bodies\, imagination and singing voices!
URL:https://www.hillcenterdc.org/event/tippi-toes-ballet-tap-jazz-combo-10/2026-04-21/
LOCATION:Hill Center DC\, 921 Pennsylvania Avenue\, SE\, Washington\, DC\, 20003\, United States
CATEGORIES:Children & Teens,In-person Events
ATTACH;FMTTYPE=image/jpeg:https://www.hillcenterdc.org/wp-content/uploads/2024/07/Tippi_Toes_1248.jpeg
ORGANIZER;CN="Tippi Toes":MAILTO:claire@tippitoesdance.com
GEO:38.8829927;-76.9931301
X-APPLE-STRUCTURED-LOCATION;VALUE=URI;X-ADDRESS=Hill Center DC 921 Pennsylvania Avenue SE Washington DC 20003 United States;X-APPLE-RADIUS=500;X-TITLE=921 Pennsylvania Avenue\, SE:geo:-76.9931301,38.8829927
END:VEVENT
BEGIN:VEVENT
DTSTART;TZID=America/New_York:20260422T100000
DTEND;TZID=America/New_York:20260422T104500
DTSTAMP:20260420T101524
CREATED:20250715T153620Z
LAST-MODIFIED:20250722T153138Z
UID:10016960-1776852000-1776854700@www.hillcenterdc.org
SUMMARY:Tippi Toes: Toddler & Me
DESCRIPTION:Toddler & Me dance classes are for children 18 months up to the age of 3 years. Music\, movement\, balance and the basic dance steps are introduced in a fun\, friendly and positive manner. This type of class includes mom or dad\, another loved one or a caretaker participating in the class along with the little dancer. Our teachers will keep the music and curriculum moving along while parents take an active role in encouraging\, supporting and keeping the little dancer on track.
URL:https://www.hillcenterdc.org/event/tippi-toes-toddler-me-2/2026-04-22/
LOCATION:Hill Center DC\, 921 Pennsylvania Avenue\, SE\, Washington\, DC\, 20003\, United States
CATEGORIES:Children & Teens,In-person Events
ATTACH;FMTTYPE=image/jpeg:https://www.hillcenterdc.org/wp-content/uploads/2024/07/Tippi_Toes_0870.jpeg
ORGANIZER;CN="Tippi Toes":MAILTO:claire@tippitoesdance.com
GEO:38.8829927;-76.9931301
X-APPLE-STRUCTURED-LOCATION;VALUE=URI;X-ADDRESS=Hill Center DC 921 Pennsylvania Avenue SE Washington DC 20003 United States;X-APPLE-RADIUS=500;X-TITLE=921 Pennsylvania Avenue\, SE:geo:-76.9931301,38.8829927
END:VEVENT
BEGIN:VEVENT
DTSTART;TZID=America/New_York:20260425T120000
DTEND;TZID=America/New_York:20260425T124500
DTSTAMP:20260420T101524
CREATED:20250715T154857Z
LAST-MODIFIED:20250722T152903Z
UID:10017082-1777118400-1777121100@www.hillcenterdc.org
SUMMARY:Tippi Toes:  Hip Hop
DESCRIPTION:Do you love to dance around the house listening to great music? Have you ever wanted to play freeze dance or do a line dance? Tippi Toes teachers will have you dancin’ to the beat in no time! Our Hip Hop class starts with warm-ups and stretching and quickly moves into learning hip hop choreography for combos and dances as well as practicing steps and combos across the floor! Our version of hip hop is extremely tasteful and uses age-appropriate material including clean popular music that your child will enjoy.
URL:https://www.hillcenterdc.org/event/tippi-toes-hip-hop-2/2026-04-25/
LOCATION:Hill Center DC\, 921 Pennsylvania Avenue\, SE\, Washington\, DC\, 20003\, United States
CATEGORIES:Children & Teens,In-person Events
ATTACH;FMTTYPE=image/jpeg:https://www.hillcenterdc.org/wp-content/uploads/2024/07/Tippi_Toes_2711.jpeg
ORGANIZER;CN="Tippi Toes":MAILTO:claire@tippitoesdance.com
GEO:38.8829927;-76.9931301
X-APPLE-STRUCTURED-LOCATION;VALUE=URI;X-ADDRESS=Hill Center DC 921 Pennsylvania Avenue SE Washington DC 20003 United States;X-APPLE-RADIUS=500;X-TITLE=921 Pennsylvania Avenue\, SE:geo:-76.9931301,38.8829927
END:VEVENT
BEGIN:VEVENT
DTSTART;TZID=America/New_York:20260622T090000
DTEND;TZID=America/New_York:20260622T170000
DTSTAMP:20260420T101524
CREATED:20260326T145256Z
LAST-MODIFIED:20260326T195108Z
UID:10019412-1782118800-1782147600@www.hillcenterdc.org
SUMMARY:Tippi Toes Dance Camp
DESCRIPTION:Tippi Toes presents: Tippi Toes Dance Camp\, a fun-filled program that introduces children to movement through music\, imagination\, and joyful instruction. \nReady to dance\, move\, and express yourself? \nTippi Toes combines ballet\, jazz\, and creative movement into engaging classes designed especially for young dancers. With upbeat music and imaginative routines\, children build coordination\, rhythm\, and confidence while staying active and entertained. \nAs a nationally recognized children’s dance program\, Tippi Toes is known for its engaging curriculum and energetic instructors who create a supportive and encouraging atmosphere where every child feels comfortable participating.\nParticipants will leave each session energized\, confident\, and excited about dance. (Camp runs June 22–August 14\, 2026. 9am to 5pm.) \nRegister today!
URL:https://www.hillcenterdc.org/event/tippi-toes-dance-camp/2026-06-22/
LOCATION:Hill Center DC\, 921 Pennsylvania Avenue\, SE\, Washington\, DC\, 20003\, United States
CATEGORIES:Children & Teens,In-person Events,School Break Camps
ATTACH;FMTTYPE=image/png:https://www.hillcenterdc.org/wp-content/uploads/2026/03/tippi-toes-logo.png
ORGANIZER;CN="Tippi Toes":MAILTO:claire@tippitoesdance.com
GEO:38.8829927;-76.9931301
X-APPLE-STRUCTURED-LOCATION;VALUE=URI;X-ADDRESS=Hill Center DC 921 Pennsylvania Avenue SE Washington DC 20003 United States;X-APPLE-RADIUS=500;X-TITLE=921 Pennsylvania Avenue\, SE:geo:-76.9931301,38.8829927
END:VEVENT
END:VCALENDAR